Workbook
Name _4._sz._sor_részletezése: #REF!
Name _4._sz._sor_részletezése: #REF!
Name _4._sz._sor_részletezése: #REF!
Name ba: #REF!
Name ba: #REF!
Name bb: #REF!
Name bb: #REF!
Name bc: #REF!
Name bc: #REF!
Name bd: #REF!
Name bd: #REF!
Name fa: #REF!
Name fa: #REF!
Name fb: #REF!
Name fb: #REF!
Name fc: #REF!
Name fc: #REF!
Name fd: #REF!
Name fd: #REF!
Name pa: #REF!
Name pa: #REF!
Name pa: #REF!
Name pb: #REF!
Name pb: #REF!
Name pc: #REF!
Name pc: #REF!
Name pd: #REF!
Name pd: #REF!
Name pe: #REF!
Name pe: #REF!
Name pf: #REF!
Name pf: #REF!
Name pg: #REF!
Name pg: #REF!
Name ph: #REF!
Name ph: #REF!
Name pi: #REF!
Name pi: #REF!
Name pj: #REF!
Name pj: #REF!
Name pk: #REF!
Name pk: #REF!
Name pl: #REF!
Name pl: #REF!
Name pm: #REF!
Name pm: #REF!
Name pn: #REF!
Name pn: #REF!
Name po: #REF!
Name po: #REF!
Name pp: #REF!
Name pp: #REF!
Name ppa: [1]Kötvény!#REF!
Name ppa: #REF!
Name ppa: [2]Kötvény!#REF!
Name ppa: [2]Kötvény!#REF!
Name ppb: [1]Kötvény!#REF!
Name ppb: #REF!
Name ppb: [2]Kötvény!#REF!
Name ppb: [2]Kötvény!#REF!

Sheet bevétfő 
J1: 1. melléklet a …./2025.(…...)
J2: határozathoz
A3: Budapest XXII. kerületi Örmény Nemzetiségi Önkormányzat
A4: 2025. évi tervezett bevételei
J5: ezer Ft-ban
A6: Sorszám | B6: Előirányzat (rovat) megnevezése | F6: Rovat- szám | G6: Tárgyévet megelőző év tényadatai (2024) | H6: Érvényes előiárnyzat | I6: módosítás ( ± ) | J6: Módosított előirányzat
A7: 1 | B7: 2 | F7: 3 | G7: 4 | H7: 5 | I7: 6 | J7: 7
A8: 1 | B8: Önkormányzat működési támogatása (a - f) | F8: B11 | H8: =SUM(H9:H14) -> 0 | I8: =SUM(I9:I14) -> 0 | J8: =SUM(J9:J14) -> 0
B9: a | C9: Helyi önkormányzatok működésének általános támogatása | F9: B111 | J9: =SUM(H9:I9) -> 0
B10: b | C10: Települési önkormányzatok egyes köznevelési feladatainak támogatása | F10: B112 | J10: =SUM(H10:I10) -> 0
B11: c | C11: Települési önkormányzatok szociális, gyermekjóléti és gyermekétkeztetési feladatainak támogatása | F11: B113 | J11: =SUM(H11:I11) -> 0
B12: d | C12: Települési önkormányzatok kulturális feladatainak támogatása | F12: B114 | J12: =SUM(H12:I12) -> 0
B13: e | C13: Működési célú költségvetési támogatások és kiegészítő támogatások | F13: B115 | J13: =SUM(H13:I13) -> 0
B14: f | C14: Elszámolásból származó bevételek | F14: B116 | J14: =SUM(H14:I14) -> 0
A15: 2 | B15: Elvonások és befizetések bevételei | F15: B12 | J15: =SUM(H15:I15) -> 0
A16: 3 | B16: Egyéb működési célú támogatások bevételei államháztartáson belülről | F16: B16 | G16: =SUM(G17:G19) -> 1781 | H16: =SUM(H17:H19) -> 1558 | I16: =SUM(I17:I19) -> 438 | J16: =SUM(J17:J19) -> 1996
C17: ebből: | D17: Társadalombiztosítás pénzügyi alanyaitól | F17: B16 | J17: =SUM(H17:I17) -> 0
C18: ebből: | D18: Helyi önkormányzatoktól és költségvetési szerveiktől | F18: B16 | G18: 600 | H18: 600 | J18: =SUM(H18:I18) -> 600
C19: ebből: | D19: Egyéb államháztartáson belüli szervezettől, központi kezelésű előirányzatból | F19: B16 | G19: 1181 | H19: 958 | I19: 438 | J19: =SUM(H19:I19) -> 1396
A20: I. | B20: Működési célú támogatások államháztartáson belülről | F20: B1 | G20: =G8+G15+G16 -> 1781 | H20: =H8+H15+H16 -> 1558 | I20: =I8+I15+I16 -> 438 | J20: =J8+J15+J16 -> 1996
A21: 1 | B21: Jövedelemadók | F21: B31 | G21: 0 | H21: 0 | I21: 0 | J21: =SUM(H21:I21) -> 0
A22: 2 | B22: Vagyoni típusú adók | F22: B34 | G22: =SUM(G23:G25) -> 0 | H22: =SUM(H23:H25) -> 0 | I22: =SUM(I23:I25) -> 0 | J22: =SUM(J23:J25) -> 0
B23: a | C23: Építményadó | F23: B34 | J23: =SUM(H23:I23) -> 0
B24: b | C24: Kommunális adó | F24: B34 | J24: =SUM(H24:I24) -> 0
B25: c | C25: Telekadó | F25: B34 | J25: =SUM(H25:I25) -> 0
A26: 3 | B26: Termékek és szolgáltatások adói | F26: B35 | G26: =SUM(G27:G29) -> 0 | H26: =SUM(H27:H29) -> 0 | I26: =SUM(I27:I29) -> 0 | J26: =SUM(J27:J29) -> 0
B27: a | C27: Értékesítési és forgalmi adók (Iparűzési adó) | F27: B351 | J27: =SUM(H27:I27) -> 0
B28: b | C28: Fogyasztási adók (jövedéki rész) | F28: B352 | J28: =SUM(H28:I28) -> 0
B29: c | C29: Gépjárműadó | F29: B354 | J29: =SUM(H29:I29) -> 0
B30: d | C30: Egyéb áruhasználati és szolgáltatási adók | F30: B355 | J30: =SUM(H30:I30) -> 0
A31: 4 | B31: Egyéb közhatalmi bevételek | F31: B36 | G31: =SUM(G32:G36) -> 0 | H31: =SUM(H32:H36) -> 0 | I31: =SUM(I32:I36) -> 0 | J31: =SUM(J32:J36) -> 0
C32: ebből: | D32: Igazgatási szolgáltatási díj | F32: B36 | J32: =SUM(H32:I32) -> 0
C33: ebből: | D33: Környezetvédelmi bírság | F33: B36 | J33: =SUM(H33:I33) -> 0
C34: ebből: | D34: Építésügyi bírság | F34: B36 | J34: =SUM(H34:I34) -> 0
C35: ebből: | D35: Szabálysértési bírság | F35: B36 | J35: =SUM(H35:I35) -> 0
C36: ebből: | D36: Egyéb bírság | F36: B36 | J36: =SUM(H36:I36) -> 0
A37: II. | B37: Közhatalmi bevételek | F37: B3 | G37: =G21+G22++G26+G31 -> 0 | H37: =H21+H22++H26+H31 -> 0 | I37: =I21+I22++I26+I31 -> 0 | J37: =J21+J22++J26+J31 -> 0
A38: 1 | B38: Készletértékesítés ellenértéke | F38: B401 | J38: =SUM(H38:I38) -> 0
A39: 2 | B39: Szolgáltatások ellenértéke | F39: B402 | J39: =SUM(H39:I39) -> 0
C40: ebből: | D40: Tárgyi eszköz bérbeadásából származó bevétel | F40: B402 | J40: =SUM(H40:I40) -> 0
A41: 3 | B41: Közvetített szolgáltatások ellenértéke | F41: B403 | J41: =SUM(H41:I41) -> 0
A42: 4 | B42: Tulajdonosi bevételek | F42: B404 | J42: =SUM(H42:I42) -> 0
A43: 5 | B43: Ellátási díjak | F43: B405 | J43: =SUM(H43:I43) -> 0
A44: 6 | B44: Kiszámlázott általános forgalmi adó | F44: B406 | J44: =SUM(H44:I44) -> 0
A45: 7 | B45: Általános forgalmi adó visszatérítése | F45: B407 | J45: =SUM(H45:I45) -> 0
A46: 8 | B46: Kamatbevételek | F46: B408 | G46: 29 | H46: 8 | I46: 4 | J46: =SUM(H46:I46) -> 12
A47: 9 | B47: Egyéb pénzügyi műveletek bevételei | F47: B409 | J47: =SUM(H47:I47) -> 0
A48: 10 | B48: Biztosító által fizetett kártérítés | F48: B410 | J48: =SUM(H48:I48) -> 0
A49: 11 | B49: Egyéb működési bevételek | F49: B411 | J49: =SUM(H49:I49) -> 0
A50: III. | B50: Működési bevételek | F50: B4 | G50: =G38+G39+G41+G42+G43+G44+G45+G46+G47+G48 -> 29 | H50: =H38+H39+H41+H42+H43+H44+H45+H46+H47+H48 -> 8 | I50: =I38+I39+I41+I42+I43+I44+I45+I46+I47+I48 -> 4 | J50: =J38+J39+J41+J42+J43+J44+J45+J46+J47+J48 -> 12
A51: 1 | B51: Működési célú visszatérítendő támogatások, kölcsönök visszatérülése áht-n kívülről | F51: B64 | J51: =SUM(H51:I51) -> 0
A52: 2 | B52: Egyéb működési célú átvett pénzeszközök | F52: B65 | J52: =SUM(H52:I52) -> 0
A53: IV. | B53: Működési célú átvett pénzeszközök | F53: B6 | G53: =SUM(G51:G52) -> 0 | H53: =SUM(H51:H52) -> 0 | I53: =SUM(I51:I52) -> 0 | J53: =SUM(J51:J52) -> 0
A54: A. | B54: Működési bevételek összesen (I+II+III+IV) | G54: =G20+G37+G50+G53 -> 1810 | H54: =H20+H37+H50+H53 -> 1566 | I54: =I20+I37+I50+I53 -> 442 | J54: =J20+J37+J50+J53 -> 2008
A55: 1 | B55: Felhalmozási célú önkormányzati támogatás | F55: B21 | J55: =SUM(H55:I55) -> 0
A56: 2 | B56: Egyéb felhalmozási célú támogatások bevételei államháztartáson belülről | F56: B25 | G56: =SUM(G58:G59) -> 0 | H56: =SUM(H58:H59) -> 0 | I56: =SUM(I58:I59) -> 0 | J56: =SUM(J58:J59) -> 0
C57: ebből: | D57: Európai Uniótól | F57: B25 | J57: =SUM(H57:I57) -> 0
C58: ebből: | D58: Helyi önkormányzatoktól és költségvetési szerveiktől | F58: B25 | J58: =SUM(H58:I58) -> 0
C59: ebből: | D59: egyéb államháztartáson belüli szervezettől, | F59: B25 | J59: =SUM(H59:I59) -> 0
A60: V. | B60: Felhalmozási célú támogatások államháztartáson belülről | F60: B2 | G60: =SUM(G55:G56) -> 0 | H60: =SUM(H55:H56) -> 0 | I60: =SUM(I55:I56) -> 0 | J60: =SUM(J55:J56) -> 0
A61: 1 | B61: Immateriális javak értékesítése | F61: B51 | J61: =SUM(H61:I61) -> 0
A62: 2 | B62: Ingatlanok értékesítése | F62: B52 | J62: =SUM(H62:I62) -> 0
A63: 3 | B63: Egyéb tárgyi eszközök értékesítése | F63: B53 | J63: =SUM(H63:I63) -> 0
A64: 4 | B64: Részesedések megszünéséhez kapcsolódó bevételek | F64: B55 | J64: =SUM(H64:I64) -> 0
A65: VI. | B65: Felhalmozási bevételek | F65: B5 | G65: =SUM(G61:G64) -> 0 | H65: =SUM(H61:H64) -> 0 | I65: =SUM(I61:I64) -> 0 | J65: =SUM(J61:J64) -> 0
A66: 1 | B66: Felhalmozási célú visszatérítendő támogatások, kölcsönök visszatérülése áht-n kívülről | F66: B74 | G66: =SUM(G67:G68) -> 0 | H66: =SUM(H67:H68) -> 0 | I66: =SUM(I67:I68) -> 0 | J66: =SUM(J67:J68) -> 0
C67: ebből: | D67: Egyházi jogi személytől | F67: B74 | J67: =SUM(H67:I67) -> 0
C68: ebből: | D68: Háztartásoktól | F68: B74 | J68: =SUM(H68:I68) -> 0
A69: 2 | B69: Egyéb felhalmozási célú átvett pénzeszközök áht-n kívülről | F69: B75 | G69: =SUM(G70:G71) -> 0 | H69: =SUM(H70:H71) -> 0 | I69: =SUM(I70:I71) -> 0 | J69: =SUM(J70:J71) -> 0
C70: ebből: | D70: Háztartásoktól | F70: B75 | J70: =SUM(H70:I70) -> 0
C71: ebből: | D71: Egyéb szervezetektől | F71: B75 | J71: =SUM(H71:I71) -> 0
A72: VII. | B72: Felhalmozási célú átvett pénzeszközök | F72: B7 | G72: =G66+G69 -> 0 | H72: =H66+H69 -> 0 | I72: =I66+I69 -> 0 | J72: =J66+J69 -> 0
A73: B. | B73: Felhalmozási bevételek összesen (V+VI+VII): | G73: =G60+G65+G72 -> 0 | H73: =H60+H65+H72 -> 0 | I73: =I60+I65+I72 -> 0 | J73: =J60+J65+J72 -> 0
A74: C. | B74: KÖLTSÉGVETÉSI BEVÉTELEK ÖSSZESEN (A + B): | G74: =G54+G73 -> 1810 | H74: =H54+H73 -> 1566 | I74: =I54+I73 -> 442 | J74: =J54+J73 -> 2008
A75: 1 | B75: Hitel-, kölcsönfelvétel államháztartáson kívülről | F75: B811 | J75: =SUM(H75:I75) -> 0
A76: 2 | B76: Belföldi értékpapírok bevételei | F76: B812 | J76: =SUM(H76:I76) -> 0
A77: 3 | B77: Maradvány igénybevétele | F77: B813 | G77: 27 | H77: 246 | J77: =SUM(H77:I77) -> 246
A78: 4 | B78: Betétek megszüntetése | F78: B817 | J78: =SUM(H78:I78) -> 0
A79: VIII. | B79: Belföldi finanszírozás bevételei | F79: B81 | G79: =SUM(G75:G78) -> 27 | H79: =SUM(H75:H78) -> 246 | I79: =SUM(I75:I78) -> 0 | J79: =SUM(J75:J78) -> 246
A80: IX | B80: Adóssághoz nem kapcsolódó származékos ügyletek bevételei | F80: B83 | J80: =SUM(H80:I80) -> 0
A81: D. | B81: Finanszírozási bevételek (VIII+IX): | F81: B8 | G81: =SUM(G79:G80) -> 27 | H81: =SUM(H79:H80) -> 246 | I81: =SUM(I79:I80) -> 0 | J81: =SUM(J79:J80) -> 246
A82: E. | B82: TÁRGYÉVI BEVÉTELEK ÖSSZESEN (C. + D.) | G82: =G74+G81 -> 1837 | H82: =H74+H81 -> 1812 | I82: =I74+I81 -> 442 | J82: =J74+J81 -> 2254

Sheet kiadfő 
I1: 2. melléklet a …./2025.(…...)
I2: határozathoz
A4: Budapest XXII. kerületi Örmény Nemzetiségi Önkormányzat
A5: 2025. évi tervezett kiadásai
I6: ezer Ft-ban
A7: Sorszám | B7: Előirányzat (rovat) megnevezése | E7: Rovat- szám | F7: Tárgyévet megelőző év tényadatai (2024) | G7: Érvényes előiárnyzat | H7: módosítás ( ± ) | I7: Módosított előirányzat
A8: 1 | B8: 2 | E8: 3 | F8: 4 | G8: 5 | H8: 6 | I8: 7
A9: I. | B9: Személyi juttatások | E9: K1 | F9: 0 | G9: ='önállóan működő'!O11 -> 0 | H9: ='önállóan működő'!P11 -> 0 | I9: ='önállóan működő'!Q11 -> 0
A10: II. | B10: Munkaadókat terhelő járulékok és szociális hozzájárulási adó | E10: K2 | F10: 0 | G10: ='önállóan működő'!O12 -> 0 | H10: ='önállóan működő'!P12 -> 0 | I10: ='önállóan működő'!Q12 -> 0
A11: III. | B11: Dologi kiadások | E11: K3 | F11: 1591 | G11: ='önállóan működő'!O13 -> 1812 | H11: ='önállóan működő'!P13 -> 442 | I11: ='önállóan működő'!Q13 -> 2254
A12: IV. | B12: Ellátottak pénzbeli juttatásai | E12: K4 | G12: ='önállóan működő'!O14 -> 0 | H12: ='önállóan működő'!P14 -> 0 | I12: ='önállóan működő'!Q14 -> 0
B13: 1 | C13: Elvonások és befizetések | E13: K502 | I13: =SUM(G13:H13) -> 0
B14: 2 | C14: Működési célú visszatérítendő támogatások, kölcsönök nyújtása áht-n belülre | E14: K504 | I14: =SUM(G14:H14) -> 0
B15: 3 | C15: Működési célú visszatérítendő támogatások, kölcsönök törlesztése áht-n belülre | E15: K505 | I15: =SUM(G15:H15) -> 0
B16: 4 | C16: Egyéb működési célú támogatások államháztartáson belülre | E16: K506 | F16: =SUM(F17:F19) -> 0 | G16: =SUM(G17:G19) -> 0 | H16: =SUM(H17:H19) -> 0 | I16: =SUM(I17:I19) -> 0
C17: ebből: | D17: központi költségvetési szervek részére | E17: =E16 -> K506 | I17: =SUM(G17:H17) -> 0
C18: ebből: | D18: egyéb fejezeti kezelésű előirányzatok | E18: =E16 -> K506 | I18: =SUM(G18:H18) -> 0
C19: ebből: | D19: helyi nemzetiségi önkorámnyzatok és költségvetési szerveik részére | E19: =E18 -> K506 | I19: =SUM(G19:H19) -> 0
B20: 5 | C20: Működési célú visszatérítendő támogatások, kölcsönök nyújtása áht-n kívülre | E20: K508 | F20: =SUM(F21:F25) -> 0 | G20: =SUM(G21:G25) -> 0 | H20: =SUM(H21:H25) -> 0 | I20: =SUM(I21:I25) -> 0
C21: ebből: | D21: egyházi jogi személyek részére | E21: =E20 -> K508 | I21: =SUM(G21:H21) -> 0
C22: ebből: | D22: egyéb civil szervezetek részére | E22: =E21 -> K508 | I22: =SUM(G22:H22) -> 0
C23: ebből: | D23: háztartások részére | E23: =E22 -> K508 | I23: =SUM(G23:H23) -> 0
C24: ebből: | D24: önkormányzati tulajdonú gazdasági társaságoknak | E24: =E23 -> K508 | I24: =SUM(G24:H24) -> 0
C25: ebből: | D25: egyéb gazdasági társaságnak | E25: =E23 -> K508 | I25: =SUM(G25:H25) -> 0
B26: 6 | C26: Egyéb működési célú támogatások államháztartáson kívülre | E26: K512 | F26: =SUM(F27:F31) -> 0 | G26: =SUM(G27:G31) -> 0 | H26: =SUM(H27:H31) -> 0 | I26: =SUM(I27:I31) -> 0
C27: ebből: | D27: egyházi jogi személyek részére | E27: =E26 -> K512 | I27: =SUM(G27:H27) -> 0
C28: ebből: | D28: egyéb civil szervezetek részére | E28: =E27 -> K512 | I28: =SUM(G28:H28) -> 0
C29: ebből: | D29: háztartások részére | E29: =E28 -> K512 | I29: =SUM(G29:H29) -> 0
C30: ebből: | D30: önkormányzati tulajdonú gazdasági társaságoknak | E30: =E28 -> K512 | I30: =SUM(G30:H30) -> 0
C31: ebből: | D31: egyéb gazdasági társaságnak | E31: =E29 -> K512 | I31: =SUM(G31:H31) -> 0
B32: 7 | C32: Tartalékok | E32: K513 | F32: =SUM(F33:F34) -> 0 | G32: =SUM(G33:G34) -> 0 | H32: =SUM(H33:H34) -> 0 | I32: =SUM(I33:I34) -> 0
C33: ebből: | D33: Általános tartalék | E33: K513 | I33: =SUM(G33:H33) -> 0
C34: ebből: | D34: Céltartalék | E34: K513 | I34: =SUM(G34:H34) -> 0
A35: V. | B35: Egyéb működési célú kiadások | E35: K5 | F35: =F13+F14+F15+F16+F20+F26+F32 -> 0 | G35: =G13+G14+G15+G16+G20+G26+G32 -> 0 | H35: =H13+H14+H15+H16+H20+H26+H32 -> 0 | I35: =I13+I14+I15+I16+I20+I26+I32 -> 0
A36: A. | B36: Működési kiadások összesen (I+II+III+IV+V) | F36: =F9+F10+F11+F12+F35 -> 1591 | G36: =G9+G10+G11+G12+G35 -> 1812 | H36: =H9+H10+H11+H12+H35 -> 442 | I36: =I9+I10+I11+I12+I35 -> 2254
A37: MŰKÖDÉSI KÖLTSÉGVETÉS EGYENLEGE (működési bevétel - működési kiadás) | F37: ='bevétfő '!G54-'kiadfő '!F36 -> 219 | G37: ='bevétfő '!H54-'kiadfő '!G36 -> -246 | H37: ='bevétfő '!I54-'kiadfő '!H36 -> 0 | I37: ='bevétfő '!J54-'kiadfő '!I36 -> -246
B38: a. | C38: Önkormányzati beruházások | E38: K6 | I38: =SUM(G38:H38) -> 0
B39: b. | C39: Intézmények saját hatáskörben végrehajtott beruházásai | E39: K6 | I39: =SUM(G39:H39) -> 0
A40: VI. | B40: Beruházások | E40: K6 | F40: =SUM(F38:F39) -> 0 | G40: =SUM(G38:G39) -> 0 | H40: =SUM(H38:H39) -> 0 | I40: =SUM(I38:I39) -> 0
B41: a. | C41: Önkormányzati felújítások | E41: K7 | I41: =SUM(G41:H41) -> 0
B42: b. | C42: Intézmények saját hatáskörben végrehajtott felújításai | E42: K7 | I42: =SUM(G42:H42) -> 0
A43: VII. | B43: Felújítások | E43: K7 | F43: =SUM(F41:F42) -> 0 | G43: =SUM(G41:G42) -> 0 | H43: =SUM(H41:H42) -> 0 | I43: =SUM(I41:I42) -> 0
B44: 1 | C44: Felhalmozási célú visszatérítendő támogatások, kölcsönök nyújtása áht-n belülre | E44: K82 | I44: =SUM(G44:H44) -> 0
B45: 2 | C45: Felhalmozási célú visszatérítendő támogtások, kölcsönök törlesztése áht-n belülre | E45: K83 | I45: =SUM(G45:H45) -> 0
B46: 3 | C46: Egyéb felhalmozási célú támogatások államháztartáson belülre | E46: K84 | F46: =SUM(F47:F49) -> 0 | G46: =SUM(G47:G49) -> 0 | H46: =SUM(H47:H49) -> 0 | I46: =SUM(I47:I49) -> 0
C47: ebből: | D47: központi költségvetési szervek részére | E47: =E46 -> K84 | I47: =SUM(G47:H47) -> 0
C48: ebből: | D48: helyi nemzetiségi önkorámnyzatok és költségvetési szerveik részére | E48: =E46 -> K84 | I48: =SUM(G48:H48) -> 0
C49: ebből: | D49: helyi nemzetiségi önkorámnyzatok és költségvetési szerveik részére | E49: =E47 -> K84 | I49: =SUM(G49:H49) -> 0
B50: 4 | C50: Felhalmozási célú visszatérítendő támogatások, kölcsönök nyújtása áht-n kívülre | E50: K86 | F50: =SUM(F52:F55) -> 0 | G50: =SUM(G52:G55) -> 0 | H50: =SUM(H52:H55) -> 0 | I50: =SUM(I52:I55) -> 0
C51: ebből: | D51: egyházi jogi személyek részére | E51: =E50 -> K86 | I51: =SUM(G51:H51) -> 0
C52: ebből: | D52: egyéb civil szervezetek részére | E52: =E51 -> K86 | I52: =SUM(G52:H52) -> 0
C53: ebből: | D53: háztartások részére | E53: =E52 -> K86 | I53: =SUM(G53:H53) -> 0
C54: ebből: | D54: önkormányzati tulajdonú gazdasági társaságoknak | E54: =E53 -> K86 | I54: =SUM(G54:H54) -> 0
C55: ebből: | D55: egyéb gazdasági társaságnak | E55: =E53 -> K86 | I55: =SUM(G55:H55) -> 0
B56: 5 | C56: Egyéb felhalmozási célú támogatások államháztartáson kívülre | E56: K89 | F56: =SUM(F57:F61) -> 0 | G56: =SUM(G57:G61) -> 0 | H56: =SUM(H57:H61) -> 0 | I56: =SUM(I57:I61) -> 0
C57: ebből: | D57: egyházi jogi személyek részére | E57: =E56 -> K89 | I57: =SUM(G57:H57) -> 0
C58: ebből: | D58: egyéb civil szervezetek részére | E58: =E57 -> K89 | I58: =SUM(G58:H58) -> 0
C59: ebből: | D59: háztartások részére | E59: =E58 -> K89 | I59: =SUM(G59:H59) -> 0
C60: ebből: | D60: önkormányzati tulajdonú gazdasági társaságoknak | E60: =E59 -> K89 | I60: =SUM(G60:H60) -> 0
C61: ebből: | D61: egyéb gazdasági társaságnak | E61: =E59 -> K89 | I61: =SUM(G61:H61) -> 0
A62: VIII. | B62: Egyéb felhalmozási célú kiadások | E62: K8 | F62: =F44+F45+F46+F50+F56 -> 0 | G62: =G44+G45+G46+G50+G56 -> 0 | H62: =H44+H45+H46+H50+H56 -> 0 | I62: =I44+I45+I46+I50+I56 -> 0
A63: B. | B63: Felhalmozási kiadások összesen (VI+VII+VIII) | F63: =F40+F43+F62 -> 0 | G63: =G40+G43+G62 -> 0 | H63: =H40+H43+H62 -> 0 | I63: =I40+I43+I62 -> 0
A64: FELHALMOZÁSI KÖLTSÉGVETÉS EGYENLEGE (felhalmozási bevétel - felhalmozási kiadás) | F64: ='bevétfő '!G73-'kiadfő '!F63 -> 0 | G64: ='bevétfő '!H73-'kiadfő '!G63 -> 0 | H64: ='bevétfő '!I73-'kiadfő '!H63 -> 0 | I64: ='bevétfő '!J73-'kiadfő '!I63 -> 0
A65: C. | B65: KÖLTSÉGVETÉSI KIADÁSOK ÖSSZESEN (A + B): | F65: =F36+F63 -> 1591 | G65: =G36+G63 -> 1812 | H65: =H36+H63 -> 442 | I65: =I36+I63 -> 2254
A66: KÖLTSÉGVETÉSI HIÁNY(-) / TÖBBLET (+): (költségvetési bevétel-költségvetési kiadás) | F66: ='bevétfő '!G74-'kiadfő '!F65 -> 219 | G66: ='bevétfő '!H74-'kiadfő '!G65 -> -246 | H66: ='bevétfő '!I74-'kiadfő '!H65 -> 0 | I66: ='bevétfő '!J74-'kiadfő '!I65 -> -246
B67: 1 | C67: Hitel-, kölcsöntörlesztés államháztartáson kívülre | E67: K911 | F67: =SUM(F68:F70) -> 0 | G67: =SUM(G68:G70) -> 0 | H67: =SUM(H68:H70) -> 0 | I67: =SUM(I68:I70) -> 0
C68: a | D68: Hosszú lejáratú hitelek, kölcsönök törlesztése | E68: K9111 | I68: =SUM(G68:H68) -> 0
C69: b | D69: Likviditási célú hitelek, kölcsönök törlesztése pénzügyi vállalkozásnak | E69: K9112 | I69: =SUM(G69:H69) -> 0
C70: c | D70: Rövid lejáratú hitelek, kölcsönök törlesztése | E70: K9113 | I70: =SUM(G70:H70) -> 0
B71: 2 | C71: Belföldi értékpapírok kiadásai | E71: K912 | I71: =SUM(G71:H71) -> 0
B72: 3 | C72: Pénzeszközök betétként elhelyezése | E72: K916 | I72: =SUM(G72:H72) -> 0
A73: IX. | B73: Belföldi finanszírozás kiadásai | E73: K91 | F73: =F67+F71+F72 -> 0 | G73: =G67+G71+G72 -> 0 | H73: =H67+H71+H72 -> 0 | I73: =I67+I71+I72 -> 0
A74: X. | B74: Adóssághoz nem kapcsolódó származékos ügyletek kiadásai | E74: K93 | I74: =SUM(G74:H74) -> 0
A75: D. | B75: Finanszírozási kiadások összesen: (IX+X) | F75: =SUM(F73:F74) -> 0 | G75: =SUM(G73:G74) -> 0 | H75: =SUM(H73:H74) -> 0 | I75: =SUM(I73:I74) -> 0
A76: E. | B76: TÁRGYÉVI KIADÁSOK ÖSSZESEN (C. + D.) | F76: =F65+F75 -> 1591 | G76: =G65+G75 -> 1812 | H76: =H65+H75 -> 442 | I76: =I65+I75 -> 2254
I79: ='bevétfő '!J82-'kiadfő '!I76 -> 0

Sheet önállóan működő
Q1: 3. melléklet a …./2025.(…...)
Q2: határozathoz
A4: Budapest XXII. kerületi Örmény Nemzetiségi Önkormányzat
A5: 2025. évi tervezett előirányzatai
Q6: ezer Ft-ban
A7: Sor- | B7: C í m r e n d | C7: Működési támogatás | F7: Feladatalapú támogatás | I7: Saját bevétel/kiadás | L7: Önkormányzati támogatás | O7: Önkormányzat összesen
A8: szám | B8: Előirányzatok megnevezése | C8: Érvényes előirányzat | D8: módosítás ( ± ) | E8: Módosított előirányzat | F8: Érvényes előirányzat | G8: módosítás ( ± ) | H8: Módosított előirányzat | I8: Érvényes előirányzat | J8: módosítás ( ± ) | K8: Módosított előirányzat | L8: Érvényes előirányzat | M8: módosítás ( ± ) | N8: Módosított előirányzat | O8: Érvényes előirányzat | P8: módosítás ( ± ) | Q8: Módosított előirányzat
A9: 1 | B9: 2 | C9: 3 | D9: 4 | E9: 5 | F9: 6 | G9: 7 | H9: 8 | I9: 9 | J9: 10 | K9: 11 | L9: 12 | M9: 13 | N9: 14 | O9: 15 | P9: 16 | Q9: 17
B10: K I A D Á S O K
A11: 1 | B11: Személyi juttatások | E11: =SUM(C11:D11) -> 0 | H11: =F11+G11 -> 0 | K11: =I11+J11 -> 0 | N11: =L11+M11 -> 0 | O11: =C11+F11+I11+L11 -> 0 | P11: =D11+G11+J11+M11 -> 0 | Q11: =SUM(O11:P11) -> 0
A12: 2 | B12: Munkaadót terhelő járulékok és szociális hozzájárulási adó | E12: =SUM(C12:D12) -> 0 | H12: =SUM(F12:G12) -> 0 | K12: =SUM(I12:J12) -> 0 | N12: =SUM(L12:M12) -> 0 | O12: =C12+F12+I12+L12 -> 0 | P12: =D12+G12+J12+M12 -> 0 | Q12: =SUM(O12:P12) -> 0
A13: 3 | B13: Dologi kiadások | C13: 520 | E13: 520 | F13: 644 | G13: 438 | H13: =F13+G13 -> 1082 | I13: 48 | J13: 4 | K13: =I13+J13 -> 52 | L13: 600 | N13: =L13+M13 -> 600 | O13: =C13+F13+I13+L13 -> 1812 | P13: =D13+G13+J13+M13 -> 442 | Q13: =SUM(O13:P13) -> 2254
A14: 4 | B14: Ellátottak pénzbeli juttatásai | E14: =SUM(C14:D14) -> 0 | H14: =SUM(F14:G14) -> 0 | K14: =SUM(I14:J14) -> 0 | N14: =SUM(L14:M14) -> 0 | O14: =C14+F14+I14+L14 -> 0 | P14: =D14+G14+J14+M14 -> 0 | Q14: =SUM(O14:P14) -> 0
A15: a | B15: elvonások és befizetések | E15: =C15+D15 -> 0 | H15: =F15+G15 -> 0 | K15: =I15+J15 -> 0 | N15: =L15+M15 -> 0 | O15: =C15+F15+I15+L15 -> 0 | P15: =D15+G15+J15+M15 -> 0 | Q15: =SUM(O15:P15) -> 0
A16: b | B16: műk. célú visszatérintendő tám., kölcsön nyújtás áht-n belül | E16: =C16+D16 -> 0 | H16: =F16+G16 -> 0 | K16: =I16+J16 -> 0 | N16: =L16+M16 -> 0 | O16: =C16+F16+I16+L16 -> 0 | P16: =D16+G16+J16+M16 -> 0 | Q16: =SUM(O16:P16) -> 0
A17: c | B17: műk. célú visszatérintendő tám., kölcsön törlesztése áht-n belül | E17: =C17+D17 -> 0 | H17: =F17+G17 -> 0 | K17: =I17+J17 -> 0 | N17: =L17+M17 -> 0 | O17: =C17+F17+I17+L17 -> 0 | P17: =D17+G17+J17+M17 -> 0 | Q17: =SUM(O17:P17) -> 0
A18: d | B18: egyéb működési célú támogatások áht-n belülre | E18: =C18+D18 -> 0 | H18: =F18+G18 -> 0 | K18: =I18+J18 -> 0 | N18: =L18+M18 -> 0 | O18: =C18+F18+I18+L18 -> 0 | P18: =D18+G18+J18+M18 -> 0 | Q18: =SUM(O18:P18) -> 0
A19: e | B19: műk. célú visszatérintendő tám., kölcsön nyújtás áht-n kívül | E19: =C19+D19 -> 0 | H19: =F19+G19 -> 0 | K19: =I19+J19 -> 0 | N19: =L19+M19 -> 0 | O19: =C19+F19+I19+L19 -> 0 | P19: =D19+G19+J19+M19 -> 0 | Q19: =SUM(O19:P19) -> 0
A20: f | B20: műk. célú visszatérintendő tám., kölcsön törlesztése áht-n kívül | E20: =C20+D20 -> 0 | H20: =F20+G20 -> 0 | K20: =I20+J20 -> 0 | N20: =L20+M20 -> 0 | O20: =C20+F20+I20+L20 -> 0 | P20: =D20+G20+J20+M20 -> 0 | Q20: =SUM(O20:P20) -> 0
A21: g | B21: egyéb működési célú támogatások áht-n kívül | E21: =C21+D21 -> 0 | H21: =F21+G21 -> 0 | K21: =I21+J21 -> 0 | N21: =L21+M21 -> 0 | O21: =C21+F21+I21+L21 -> 0 | P21: =D21+G21+J21+M21 -> 0 | Q21: =SUM(O21:P21) -> 0
A22: h | B22: tartalékok | E22: =C22+D22 -> 0 | H22: =F22+G22 -> 0 | K22: =I22+J22 -> 0 | N22: =L22+M22 -> 0 | O22: =C22+F22+I22+L22 -> 0 | P22: =D22+G22+J22+M22 -> 0 | Q22: =SUM(O22:P22) -> 0
A23: 5 | B23: Egyéb működési célú kiadások | C23: =SUM(C15:C22) -> 0 | D23: =SUM(D15:D22) -> 0 | E23: =SUM(E15:E22) -> 0 | F23: =SUM(F15:F22) -> 0 | G23: =SUM(G15:G22) -> 0 | H23: =SUM(H15:H22) -> 0 | I23: =SUM(I15:I22) -> 0 | J23: =SUM(J15:J22) -> 0 | ... Q23: =SUM(Q15:Q22) -> 0
A24: 6 | B24: Beruházások (ÁFA-val) | E24: =C24+D24 -> 0 | H24: =F24+G24 -> 0 | K24: =I24+J24 -> 0 | N24: =L24+M24 -> 0 | O24: =C24+F24+I24+L24 -> 0 | P24: =D24+G24+J24+M24 -> 0 | Q24: =SUM(O24:P24) -> 0
A25: 7 | B25: Felújítások (ÁFA-val) | E25: =C25+D25 -> 0 | H25: =F25+G25 -> 0 | K25: =I25+J25 -> 0 | N25: =L25+M25 -> 0 | O25: =C25+F25+I25+L25 -> 0 | P25: =D25+G25+J25+M25 -> 0 | Q25: =SUM(O25:P25) -> 0
A26: a | B26: felh.. célú visszatérintendő tám., kölcsön nyújtás áht-n belül | E26: =C26+D26 -> 0 | H26: =F26+G26 -> 0 | K26: =I26+J26 -> 0 | N26: =L26+M26 -> 0 | O26: =C26+F26+I26+L26 -> 0 | P26: =D26+G26+J26+M26 -> 0 | Q26: =SUM(O26:P26) -> 0
A27: b | B27: felh. célú visszatérintendő tám., kölcsön törlesztése áht-n belül | E27: =C27+D27 -> 0 | H27: =F27+G27 -> 0 | K27: =I27+J27 -> 0 | N27: =L27+M27 -> 0 | O27: =C27+F27+I27+L27 -> 0 | P27: =D27+G27+J27+M27 -> 0 | Q27: =SUM(O27:P27) -> 0
A28: c | B28: egyéb felhalmozási célú támogatások áht-n belülre | E28: =C28+D28 -> 0 | H28: =F28+G28 -> 0 | K28: =I28+J28 -> 0 | N28: =L28+M28 -> 0 | O28: =C28+F28+I28+L28 -> 0 | P28: =D28+G28+J28+M28 -> 0 | Q28: =SUM(O28:P28) -> 0
A29: d | B29: felh. célú visszatérintendő tám., kölcsön nyújtás áht-n kívül | E29: =C29+D29 -> 0 | H29: =F29+G29 -> 0 | K29: =I29+J29 -> 0 | N29: =L29+M29 -> 0 | O29: =C29+F29+I29+L29 -> 0 | P29: =D29+G29+J29+M29 -> 0 | Q29: =SUM(O29:P29) -> 0
A30: e | B30: egyéb felhalmozási célú támogatások áht-n kívül | E30: =C30+D30 -> 0 | H30: =F30+G30 -> 0 | K30: =I30+J30 -> 0 | N30: =L30+M30 -> 0 | O30: =C30+F30+I30+L30 -> 0 | P30: =D30+G30+J30+M30 -> 0 | Q30: =SUM(O30:P30) -> 0
A31: 8 | B31: Egyéb felhalmozási célú kiadások | C31: =SUM(C26:C30) -> 0 | D31: =SUM(D26:D30) -> 0 | E31: =SUM(E26:E30) -> 0 | F31: =SUM(F26:F30) -> 0 | G31: =SUM(G26:G30) -> 0 | H31: =SUM(H26:H30) -> 0 | I31: =SUM(I26:I30) -> 0 | J31: =SUM(J26:J30) -> 0 | ... Q31: =SUM(Q26:Q30) -> 0
A32: 9 | B32: Finanszírozási célú kiadások összesen | E32: =C32+D32 -> 0 | H32: =F32+G32 -> 0 | K32: =I32+J32 -> 0 | N32: =L32+M32 -> 0 | O32: =C32+F32+I32+L32 -> 0 | P32: =D32+G32+J32+M32 -> 0 | Q32: =SUM(O32:P32) -> 0
A33: 10 | E33: =SUM(C33:D33) -> 0 | H33: =SUM(F33:G33) -> 0 | K33: =SUM(I33:J33) -> 0 | N33: =SUM(L33:M33) -> 0 | O33: =C33+F33+I33+L33 -> 0 | P33: =D33+G33+J33+M33 -> 0 | Q33: =SUM(O33:P33) -> 0
A34: A | B34: KIADÁSOK összesen: (1-10-ig) | C34: =C11+C12+C13+C23+C14+C31+C25+C24+C32+C33 -> 520 | D34: =D11+D12+D13+D23+D14+D31+D25+D24+D32+D33 -> 0 | E34: =E11+E12+E13+E23+E14+E31+E25+E24+E32+E33 -> 520 | F34: =F11+F12+F13+F23+F14+F31+F25+F24+F32+F33 -> 644 | G34: =G11+G12+G13+G23+G14+G31+G25+G24+G32+G33 -> 438 | H34: =H11+H12+H13+H23+H14+H31+H25+H24+H32+H33 -> 1082 | I34: =I11+I12+I13+I23+I14+I31+I25+I24+I32+I33 -> 48 | J34: =J11+J12+J13+J23+J14+J31+J25+J24+J32+J33 -> 4 | ... Q34: =Q11+Q12+Q13+Q23+Q14+Q31+Q25+Q24+Q32+Q33 -> 2254
B35: B E V É T E L E K
A36: a | B36: Önkormányzat működési támogatása | E36: =SUM(C36:D36) -> 0 | H36: =SUM(F36:G36) -> 0 | K36: =SUM(I36:J36) -> 0 | N36: =SUM(L36:M36) -> 0 | O36: =C36+F36+I36+L36 -> 0 | P36: =D36+G36+J36+M36 -> 0 | Q36: =SUM(O36:P36) -> 0
A37: b | B37: Elvonások és befizetések bevételei | E37: =C37+D37 -> 0 | H37: =F37+G37 -> 0 | K37: =I37+J37 -> 0 | N37: =L37+M37 -> 0 | O37: =C37+F37+I37+L37 -> 0 | P37: =D37+G37+J37+M37 -> 0 | Q37: =SUM(O37:P37) -> 0
A38: c | B38: Műk. célú visszat. tám-ok, kölcsönök visszatérülése áht-n belül | E38: =C38+D38 -> 0 | H38: =F38+G38 -> 0 | K38: =I38+J38 -> 0 | N38: =L38+M38 -> 0 | O38: =C38+F38+I38+L38 -> 0 | P38: =D38+G38+J38+M38 -> 0 | Q38: =SUM(O38:P38) -> 0
A39: d | B39: Egyéb műk.c. támogatások bevételei áht-n belül | C39: 520 | E39: =C39+D39 -> 520 | F39: 438 | G39: 438 | H39: =F39+G39 -> 876 | K39: =I39+J39 -> 0 | L39: 600 | N39: =L39+M39 -> 600 | O39: =C39+F39+I39+L39 -> 1558 | P39: =D39+G39+J39+M39 -> 438 | Q39: =SUM(O39:P39) -> 1996
A40: 1 | B40: Működési célú támogatások áht-n belülről | C40: =SUM(C36:C39) -> 520 | D40: =SUM(D36:D39) -> 0 | E40: =SUM(E36:E39) -> 520 | F40: =SUM(F36:F39) -> 438 | G40: =SUM(G36:G39) -> 438 | H40: =SUM(H36:H39) -> 876 | I40: =SUM(I36:I39) -> 0 | J40: =SUM(J36:J39) -> 0 | ... Q40: =SUM(Q36:Q39) -> 1996
A41: a | B41: jövedelemadók | E41: =C41+D41 -> 0 | H41: =F41+G41 -> 0 | K41: =I41+J41 -> 0 | N41: =L41+M41 -> 0 | O41: =C41+F41+I41+L41 -> 0 | P41: =D41+G41+J41+M41 -> 0 | Q41: =SUM(O41:P41) -> 0
A42: b | B42: vagyoni típusú adók | E42: =C42+D42 -> 0 | H42: =F42+G42 -> 0 | K42: =I42+J42 -> 0 | N42: =L42+M42 -> 0 | O42: =C42+F42+I42+L42 -> 0 | P42: =D42+G42+J42+M42 -> 0 | Q42: =SUM(O42:P42) -> 0
A43: c | B43: termékek és szolgáltatások adói | E43: =C43+D43 -> 0 | H43: =F43+G43 -> 0 | K43: =I43+J43 -> 0 | N43: =L43+M43 -> 0 | O43: =C43+F43+I43+L43 -> 0 | P43: =D43+G43+J43+M43 -> 0 | Q43: =SUM(O43:P43) -> 0
A44: d | B44: egyéb közhatalmi bevételek | E44: =C44+D44 -> 0 | H44: =F44+G44 -> 0 | K44: =I44+J44 -> 0 | N44: =L44+M44 -> 0 | O44: =C44+F44+I44+L44 -> 0 | P44: =D44+G44+J44+M44 -> 0 | Q44: =SUM(O44:P44) -> 0
A45: 2 | B45: Közhatalmi bevételek összesen | C45: =SUM(C41:C44) -> 0 | D45: =SUM(D41:D44) -> 0 | E45: =SUM(E41:E44) -> 0 | F45: =SUM(F41:F44) -> 0 | G45: =SUM(G41:G44) -> 0 | H45: =SUM(H41:H44) -> 0 | I45: =SUM(I41:I44) -> 0 | J45: =SUM(J41:J44) -> 0 | ... N45: =SUM(N41:N44) -> 0 | O45: =C45+F45+I45+L45 -> 0 | P45: =D45+G45+J45+M45 -> 0 | Q45: =SUM(Q41:Q44) -> 0
A46: 3 | B46: Működési bevételek | E46: =SUM(C46:D46) -> 0 | H46: =SUM(F46:G46) -> 0 | I46: 8 | J46: 4 | K46: =SUM(I46:J46) -> 12 | N46: =SUM(L46:M46) -> 0 | O46: =C46+F46+I46+L46 -> 8 | P46: =D46+G46+J46+M46 -> 4 | Q46: =SUM(O46:P46) -> 12
A47: 4 | B47: Működési célú átvett pénzeszközök | E47: =SUM(C47:D47) -> 0 | H47: =SUM(F47:G47) -> 0 | K47: =SUM(I47:J47) -> 0 | N47: =SUM(L47:M47) -> 0 | O47: =C47+F47+I47+L47 -> 0 | P47: =D47+G47+J47+M47 -> 0 | Q47: =SUM(O47:P47) -> 0
A48: a | B48: Felhalmozási célú önkormányzati támogatás | E48: =C48+D48 -> 0 | H48: =F48+G48 -> 0 | K48: =I48+J48 -> 0 | N48: =L48+M48 -> 0 | O48: =C48+F48+I48+L48 -> 0 | P48: =D48+G48+J48+M48 -> 0 | Q48: =SUM(O48:P48) -> 0
A49: b | B49: Felh. célú visszat. tám-ok, kölcsönök visszatérülése áht-n belül | E49: =C49+D49 -> 0 | H49: =F49+G49 -> 0 | K49: =I49+J49 -> 0 | N49: =L49+M49 -> 0 | O49: =C49+F49+I49+L49 -> 0 | P49: =D49+G49+J49+M49 -> 0 | Q49: =SUM(O49:P49) -> 0
A50: c | B50: Egyéb felh.c. támogatások bevételei áht-n belül | E50: =C50+D50 -> 0 | H50: =F50+G50 -> 0 | K50: =I50+J50 -> 0 | N50: =L50+M50 -> 0 | O50: =C50+F50+I50+L50 -> 0 | P50: =D50+G50+J50+M50 -> 0 | Q50: =SUM(O50:P50) -> 0
A51: 5 | B51: felhalmozási célú támogatások áht-n belülről | C51: =SUM(C48:C50) -> 0 | D51: =SUM(D48:D50) -> 0 | E51: =SUM(E48:E50) -> 0 | F51: =SUM(F48:F50) -> 0 | G51: =SUM(G48:G50) -> 0 | H51: =SUM(H48:H50) -> 0 | I51: =SUM(I48:I50) -> 0 | J51: =SUM(J48:J50) -> 0 | ... N51: =SUM(N48:N50) -> 0 | O51: =C51+F51+I51+L51 -> 0 | P51: =D51+G51+J51+M51 -> 0 | Q51: =SUM(Q48:Q50) -> 0
A52: 6 | B52: Felhalmozási bevételek | E52: =C52+D52 -> 0 | H52: =F52+G52 -> 0 | K52: =I52+J52 -> 0 | N52: =L52+M52 -> 0 | O52: =C52+F52+I52+L52 -> 0 | P52: =D52+G52+J52+M52 -> 0 | Q52: =SUM(O52:P52) -> 0
A53: a | B53: felhalm c. tám-ok, kölcsönök visszatérülése áht-n kívülről | E53: =C53+D53 -> 0 | H53: =F53+G53 -> 0 | K53: =I53+J53 -> 0 | N53: =L53+M53 -> 0 | O53: =C53+F53+I53+L53 -> 0 | P53: =D53+G53+J53+M53 -> 0 | Q53: =SUM(O53:P53) -> 0
A54: b | B54: egyéb felhalmozási célú átvett pénzeszközök áht-n kívül | E54: =C54+D54 -> 0 | H54: =F54+G54 -> 0 | K54: =I54+J54 -> 0 | N54: =L54+M54 -> 0 | O54: =C54+F54+I54+L54 -> 0 | P54: =D54+G54+J54+M54 -> 0 | Q54: =SUM(O54:P54) -> 0
A55: 7 | B55: Felhalmozási célú átvett pénzeszközök összesen: | C55: =SUM(C53:C54) -> 0 | D55: =SUM(D53:D54) -> 0 | E55: =SUM(E53:E54) -> 0 | F55: =SUM(F53:F54) -> 0 | G55: =SUM(G53:G54) -> 0 | H55: =SUM(H53:H54) -> 0 | I55: =SUM(I53:I54) -> 0 | J55: =SUM(J53:J54) -> 0 | ... N55: =SUM(N53:N54) -> 0 | O55: =C55+F55+I55+L55 -> 0 | P55: =D55+G55+J55+M55 -> 0 | Q55: =SUM(Q53:Q54) -> 0
A56: 8 | B56: Központi, irányítószervi támogatás | C56: 0 | D56: =D34-D40-D45-D46-D47-D51-D52-D55-D57-D58-D59 -> 0 | E56: 0 | F56: =F34-F40-F45-F46-F47-F51-F52-F55-F57-F58-F59 -> 0 | G56: =G34-G40-G45-G46-G47-G51-G52-G55-G57-G58-G59 -> 0 | H56: =H34-H40-H45-H46-H47-H51-H52-H55-H57-H58-H59 -> 0 | I56: =I34-I40-I45-I46-I47-I51-I52-I55-I57-I58-I59 -> 0 | J56: =J34-J40-J45-J46-J47-J51-J52-J55-J57-J58-J59 -> 0 | K56: =K34-K40-K45-K46-K47-K51-K52-K55-K57-K58-K59 -> 0 | L56: =L34-L40-L45-L46-L47-L51-L52-L55-L57-L58-L59 -> 0 | M56: =M34-M40-M45-M46-M47-M51-M52-M55-M57-M58-M59 -> 0 | ... Q56: =Q34-Q40-Q45-Q46-Q47-Q51-Q52-Q55-Q57-Q58-Q59 -> 0
A57: 9/a | B57: Pénzmaradvány igénybevétele: | E57: =SUM(C57:D57) -> 0 | F57: 206 | H57: =SUM(F57:G57) -> 206 | I57: 40 | K57: =SUM(I57:J57) -> 40 | N57: =SUM(L57:M57) -> 0 | O57: =C57+F57+I57+L57 -> 246 | P57: =D57+G57+J57+M57 -> 0 | Q57: =SUM(O57:P57) -> 246
A58: 9/b | B58: egyéb finanszírozási célú bevételek összesen: | E58: =SUM(C58:D58) -> 0 | H58: =SUM(F58:G58) -> 0 | K58: =SUM(I58:J58) -> 0 | N58: =SUM(L58:M58) -> 0 | O58: =C58+F58+I58+L58 -> 0 | P58: =D58+G58+J58+M58 -> 0 | Q58: =SUM(O58:P58) -> 0
A59: 10 | E59: =SUM(C59:D59) -> 0 | H59: =SUM(F59:G59) -> 0 | K59: =SUM(I59:J59) -> 0 | N59: =SUM(L59:M59) -> 0 | O59: =C59+F59+I59+L59 -> 0 | P59: =D59+G59+J59+M59 -> 0 | Q59: =SUM(O59:P59) -> 0
A60: B | B60: BEVÉTELEK összesen : (1-10-ig) | C60: =C40+C45+C46+C47+C51+C52+C55+C56+C57+C58+C59 -> 520 | D60: =D40+D45+D46+D47+D51+D52+D55+D56+D57+D58+D59 -> 0 | E60: =E40+E45+E46+E47+E51+E52+E55+E56+E57+E58+E59 -> 520 | F60: =F40+F45+F46+F47+F51+F52+F55+F56+F57+F58+F59 -> 644 | G60: =G40+G45+G46+G47+G51+G52+G55+G56+G57+G58+G59 -> 438 | H60: =H40+H45+H46+H47+H51+H52+H55+H56+H57+H58+H59 -> 1082 | I60: =I40+I45+I46+I47+I51+I52+I55+I56+I57+I58+I59 -> 48 | J60: =J40+J45+J46+J47+J51+J52+J55+J56+J57+J58+J59 -> 4 | ... Q60: =Q40+Q45+Q46+Q47+Q51+Q52+Q55+Q56+Q57+Q58+Q59 -> 2254
B62: 2025. évi létszámelőirányzat / fő | C62: 3 | E62: =SUM(C62) -> 3 | O62: =C62+F62+I62+L62 -> 3 | P62: =D62+G62+J62+M62 -> 0 | Q62: =SUM(O62:P62) -> 3
B63: Közfoglalkoztatottak 2025. évi létszámelőirányzata | O63: 0 | P63: =D63+G63+J63+M63 -> 0 | Q63: =SUM(O63:P63) -> 0

Sheet pályázat-kötelező
K1: 4. melléklet a …./2025.(…...)
K2: határozathoz
A6: Budapest XXII. kerületi Örmény Nemzetiségi Önkormányzat
A8: 1.) | B8: Pályázati forrásokból megvalósuló feladatok és azok 2025. évi üteme
I9: ezer Ft-ban
A10: sor-szám | B10: pályázat címe, pályázati cél | C10: pályázat / operatív program azonosító | D10: Projekt teljes költsége | G10: projekt 2025. évi ütemezése
D11: projekt teljes költsége | E11: pályázati forrás | F11: saját forrás | G11: pályázati forrás | H11: saját forrás | I11: tervezett összes kiadás
A12: 1. | B12: 2. | C12: 3. | D12: 4. | E12: 5. | F12: 6. | G12: 7. | H12: 8. | I12: 9.
A13: 1 | D13: =SUM(E13:F13) -> 0 | I13: =SUM(G13:H13) -> 0
A14: 2 | D14: =SUM(E14:F14) -> 0 | I14: =SUM(G14:H14) -> 0
A15: 3 | D15: =SUM(E15:F15) -> 0 | I15: =SUM(G15:H15) -> 0
A16: I. | B16: Europai Uniós forrásból finanszírozott pályázatok összesen: | D16: =SUM(D13:D15) -> 0 | E16: =SUM(E13:E15) -> 0 | F16: =SUM(F13:F15) -> 0 | G16: =SUM(G13:G15) -> 0 | H16: =SUM(H13:H15) -> 0 | I16: =SUM(I13:I15) -> 0
A17: 1 | D17: =SUM(E17:F17) -> 0 | I17: 0
A18: =A17+1 -> 2 | D18: =SUM(E18:F18) -> 0 | I18: 0
A19: II. | B19: Egyéb külföldi forrásból finanszírozott pályázatok összesen: | D19: =SUM(D17:D18) -> 0 | E19: =SUM(E17:E18) -> 0 | F19: =SUM(F17:F18) -> 0 | G19: =SUM(G17:G18) -> 0 | H19: =SUM(H17:H18) -> 0 | I19: =SUM(I17:I18) -> 0
A20: 1 | D20: =SUM(E20:F20) -> 0 | I20: =SUM(G20:H20) -> 0
A21: =A20+1 -> 2 | D21: =SUM(E21:F21) -> 0 | I21: =SUM(G21:H21) -> 0
A22: =A21+1 -> 3 | D22: =SUM(E22:F22) -> 0 | I22: =SUM(G22:H22) -> 0
A23: III. | B23: Hazai forrásból megvalósuló pályázatok | D23: =SUM(D20:D22) -> 0 | E23: =SUM(E20:E22) -> 0 | F23: =SUM(F20:F22) -> 0 | G23: =SUM(G20:G22) -> 0 | H23: =SUM(H20:H22) -> 0 | I23: =SUM(I20:I22) -> 0
A24: Pályázatokból megvalósuló fejlesztések összesen (I+II+III.): | D24: =D23+D19+D16 -> 0 | E24: =E23+E19+E16 -> 0 | F24: =F23+F19+F16 -> 0 | G24: =G23+G19+G16 -> 0 | H24: =H23+H19+H16 -> 0 | I24: =I23+I19+I16 -> 0
A30: 2.) | B30: 2025. évi költségvetési bevételek és kiadások
B31: Kötelező-, önként vállalt és államigazgatási feladatok bontásban
K32: ezer Ft-ban
A33: Sor-szám | B33: C í m r e n d | C33: Bevételek | H33: Kiadások
C34: állami hozzájárulás | D34: feladathoz kapcsolódó egyéb támogatás | E34: Önkormányzat egyéb bevételei | F34: finanszírozási bevételek | G34: Tervezett bevételek összesen | H34: kötelező feladatok kiadásai | I34: Önként vállalt feladatok | J34: államigaz-gatási feladatok | K34: Tervezett kiadások összesen
A36: 1 | B36: 2 | C36: 3 | D36: 4 | E36: 5 | F36: 6 | G36: 7 | H36: 8 | I36: 9 | J36: 10 | K36: 11
A37: 1 | B37: Működési támogatás | C37: 0 | D37: 520 | E37: =G37-C37-D37-F37 -> 0 | F37: 0 | G37: =K37 -> 520 | H37: =K37 -> 520 | I37: =K37-H37-J37 -> 0 | J37: 0 | K37: ='önállóan működő'!E34 -> 520
A38: =A37+1 -> 2 | B38: Feladatalapú támogatás | C38: 0 | D38: =438+438 -> 876 | E38: =G38-C38-D38-F38 -> 0 | F38: 206 | G38: =K38 -> 1082 | H38: =K38 -> 1082 | I38: 0 | J38: 0 | K38: ='önállóan működő'!H34 -> 1082
A39: =A38+1 -> 3 | B39: Saját bevétel/kiadás | C39: 0 | D39: 0 | E39: =G39-C39-D39-F39 -> 12 | F39: 40 | G39: =K39 -> 52 | H39: 0 | I39: =K39-H39-J39 -> 52 | J39: 0 | K39: ='önállóan működő'!K34 -> 52
A40: =A39+1 -> 4 | B40: Önkormányzati támogatás | C40: 0 | D40: 600 | E40: =G40-C40-D40-F40 -> 0 | F40: 0 | G40: =K40 -> 600 | H40: 0 | I40: =K40-H40-J40 -> 600 | J40: 0 | K40: ='önállóan működő'!N34 -> 600
A41: III. | B41: Önkormányzat összesen: | C41: =SUM(C37:C40) -> 0 | D41: =SUM(D37:D40) -> 1996 | E41: =SUM(E37:E40) -> 12 | F41: =SUM(F37:F40) -> 246 | G41: =SUM(G37:G40) -> 2254 | H41: =SUM(H37:H40) -> 1602 | I41: =SUM(I37:I40) -> 652 | J41: =SUM(J37:J40) -> 0 | K41: =SUM(K37:K40) -> 2254
D43: ='bevétfő '!J16+'bevétfő '!J52+'bevétfő '!J56+'bevétfő '!J69 -> 1996 | F43: ='bevétfő '!J81 -> 246 | G43: ='bevétfő '!J82 -> 2254 | K43: ='kiadfő '!I76 -> 2254

Sheet ktgvetési mérleg
M1: 5. melléklet a …/2025.(…...)
M2: határozathoz
A4: Budapest XXII. kerületi Örmény Nemzetiségi Önkormányzat
A5: 2025. évi költségvetési mérlege
M10: ezer Ft-ban
A11: Sor-szám | B11: Bevételek előirányzat csoportonként | C11: tervezett bevételi előirányzatok (áht. 24.§ (4) ) | G11: Sor-szám | H11: Kiadások előirányzat csoportonként | I11: tervezett kiadási előirányzatok (áht. 24.§ (4) )
C12: érvényes előirányzat | D12: módosítás ( ± ) | E12: módosított előirányzat | I12: érvényes előirányzat | J12: hiány/többlet | K12: módosítás ( ± ) | L12: módosított előirányzat | M12: hiány/többlet
A13: I. | B13: Működési célú támogatások áht-n belülről összesen | C13: ='bevétfő '!H20 -> 1558 | D13: ='bevétfő '!I20 -> 438 | E13: ='bevétfő '!J20 -> 1996 | G13: I. | H13: Személyi juttatások | I13: 0 | K13: 0 | L13: 0
A14: 1 | B14: jövedelemadók | C14: 0 | D14: 0 | E14: 0 | G14: II. | H14: Munkaadót terhelő járulékok és szociális hozzájárulási adó | I14: 0 | K14: 0 | L14: 0
A15: 2 | B15: vagyoni típusú adók | C15: 0 | D15: 0 | E15: 0 | G15: III. | H15: Dologi kiadások | I15: ='kiadfő '!G11 -> 1812 | K15: ='kiadfő '!H11 -> 442 | L15: ='kiadfő '!I11 -> 2254
A16: 3 | B16: termékek és szolgáltatások adói | C16: 0 | D16: 0 | E16: 0 | G16: IV. | H16: Ellátottak pénzbeli juttatásai (segélyek) | I16: 0 | K16: 0 | L16: 0
A17: 4 | B17: Egyéb közhatalmi bevételek | C17: 0 | D17: 0 | E17: 0 | G17: 1 | H17: Elvonások és befizetések | I17: 0 | K17: 0 | L17: 0
A18: II. | B18: Közhatalmi bevételek (1+2+3+4) | C18: =SUM(C14:C17) -> 0 | D18: =SUM(D14:D17) -> 0 | E18: =SUM(E14:E17) -> 0 | G18: 2 | H18: Működési célú visszatérítendő támogatások, kölcsönök nyújtása áht-n belülre | I18: 0 | K18: 0 | L18: 0
A19: a | B19: Készletértékesítés ellenértéke | C19: 0 | D19: 0 | E19: 0 | G19: 3 | H19: Működési célú visszatérítendő támogatások, kölcsönök törlesztése áht-n belülre | I19: 0 | K19: 0 | L19: 0
A20: b | B20: Szolgáltatások, közvetített szolgáltatások összesen: | C20: 0 | D20: 0 | E20: 0 | G20: 4 | H20: Egyéb működési célú támogatások államháztartáson belülre | I20: ='kiadfő '!G16 -> 0 | K20: ='kiadfő '!H16 -> 0 | L20: ='kiadfő '!I16 -> 0
A21: c | B21: Tulajdonosi bevételek | C21: 0 | D21: 0 | E21: 0 | G21: 5 | H21: Működési célú visszatérítendő támogatások, kölcsönök nyújtása áht-n kívülre | I21: 0 | K21: 0 | L21: 0
A22: d | B22: Ellátási díjak | C22: 0 | D22: 0 | E22: 0 | G22: 6 | H22: Egyéb működési célú támogatások államháztartáson kívülre | I22: ='kiadfő '!G26 -> 0 | K22: ='kiadfő '!H26 -> 0 | L22: ='kiadfő '!I26 -> 0
A23: e | B23: Áfa bevételek, visszatérülések | C23: 0 | D23: 0 | E23: 0 | G23: 7 | H23: Működési célútartalék | I23: 0 | K23: 0 | L23: 0
A24: f | B24: Kamatbevételek | C24: ='bevétfő '!H46 -> 8 | D24: ='bevétfő '!I46 -> 4 | E24: ='bevétfő '!J46 -> 12 | H24: ebből: általános tartalék
A25: g | B25: Egyéb működési bevételek | C25: 0 | D25: 0 | E25: 0 | H25: ebből: működési céltartalék
A26: III. | B26: Működési bevételek (a+…+g) | C26: =SUM(C19:C25) -> 8 | D26: =SUM(D19:D25) -> 4 | E26: =SUM(E19:E25) -> 12 | G26: V. | H26: Egyéb működési célú kiadások (1+2+3+..+7) | I26: =SUM(I17:I23) -> 0 | K26: =SUM(K17:K23) -> 0 | L26: =SUM(L17:L23) -> 0
A27: 1 | B27: Működési célú támogatások, kölcsönök visszatérülése áht-n kívülről | C27: 0 | D27: 0 | E27: 0
A28: 2 | B28: Egyéb működési célú átvett pénzeszközök | C28: 0 | D28: 0 | E28: 0
A29: IV. | B29: Működési célú átvett pénzeszközök összesen (1+2): | C29: =SUM(C27:C28) -> 0 | D29: =SUM(D27:D28) -> 0 | E29: =SUM(E27:E28) -> 0
A30: A. | B30: MŰKÖDÉSI BEVÉTELEK ÖSSZESEN: (I+II+III+IV) | C30: =C13+C18+C26+C29 -> 1566 | D30: =D13+D18+D26+D29 -> 442 | E30: =E13+E18+E26+E29 -> 2008 | G30: A. | H30: MŰKÖDÉSI KIADÁSOK ÖSSZESEN: (I+II+III+IV+V) | I30: =I13+I14+I15+I16+I26 -> 1812 | J30: =C30-I30 -> -246 | K30: =K13+K14+K15+K16+K26 -> 442 | L30: =L13+L14+L15+L16+L26 -> 2254 | M30: =E30-L30 -> -246
A31: V. | B31: Felhalmozási célú támogatások államháztartáson belülről | C31: 0 | D31: 0 | E31: 0 | G31: VI. | H31: Beruházások összesen: | I31: ='kiadfő '!G40 -> 0 | K31: ='kiadfő '!H40 -> 0 | L31: ='kiadfő '!I40 -> 0
A32: 1 | B32: Immateriális javak értékesítése | C32: 0 | D32: 0 | E32: 0 | G32: VII. | H32: Felújítások összesen: | I32: 0 | K32: 0 | L32: 0
A33: 2 | B33: Ingatlanok értékesítése | C33: 0 | D33: 0 | E33: 0 | G33: 1 | H33: Felhalmozási célú visszatérítendő támogatások, kölcsönök nyújtása áht-n belülre | I33: 0 | K33: 0 | L33: 0
A34: 3 | B34: Egyéb tárgyi eszköz értékesítése | C34: 0 | D34: 0 | E34: 0 | G34: 2 | H34: Felhalmozási célú visszatérítendő támogtások, kölcsönök törlesztése áht-n belülre | I34: 0 | K34: 0 | L34: 0
A35: 4 | B35: Részesedések megszűnéséhez kapcsolódó bevételek | C35: 0 | D35: 0 | E35: 0 | G35: 3 | H35: Egyéb felhalmozási célú támogatások államháztartáson belülre | I35: 0 | K35: 0 | L35: 0
A36: VI. | B36: Felhalmozási bevételek összesen (1+…+4): | C36: =SUM(C32:C35) -> 0 | D36: =SUM(D32:D35) -> 0 | E36: =SUM(E32:E35) -> 0 | G36: 4 | H36: Felhalmozási célú visszatérítendő támogatások, kölcsönök nyújtása áht-n kívülre | I36: 0 | K36: 0 | L36: 0
A37: 1 | B37: Felhalmozási célú támogatás, kölcsön visszatérülése áht-n kívülről | C37: 0 | D37: 0 | E37: 0 | G37: 5 | H37: Egyéb felhalmozási célú támogatások államháztartáson kívülre | I37: 0 | K37: 0 | L37: 0
A38: 2 | B38: Felhalmozási célú átvett pénzeszközök összesen: | C38: 0 | D38: 0 | E38: 0 | G38: VIII. | H38: Egyéb felhalmozási célú kiadások (1+2+…+5) | I38: =SUM(I33:I37) -> 0 | K38: =SUM(K33:K37) -> 0 | L38: =SUM(L33:L37) -> 0
A39: VII. | B39: Felhalmozási célú átvett pénzeszközök összesen (1+2) | C39: =SUM(C37:C38) -> 0 | D39: =SUM(D37:D38) -> 0 | E39: =SUM(E37:E38) -> 0 | H39: Felhalmozási céltartalékok összesen:
A40: B | B40: FELHALMOZÁSI BEVÉTELEK ÖSSZESEN: (V+VI+VII) | C40: =C31+C36+C39 -> 0 | D40: =D31+D36+D39 -> 0 | E40: =E31+E36+E39 -> 0 | G40: B | H40: FELHALMOZÁSI KIADÁSOK ÖSSZESEN: (VI+VII+VIII) | I40: =I31+I32+I38+I39 -> 0 | J40: =C40-I40 -> 0 | K40: =K31+K32+K38+K39 -> 0 | L40: =L31+L32+L38+L39 -> 0 | M40: =E40-L40 -> 0
A41: C | B41: TÁRGYÉVI KÖLTSÉGVETÉSI BEVÉTELEK ÖSSZESEN: | C41: =C30+C40 -> 1566 | D41: =D30+D40 -> 442 | E41: =E30+E40 -> 2008 | G41: C | H41: TÁRGYÉVI KÖLTSÉGVETÉSI KIADÁSOK ÖSSZESEN: | I41: =I30+I40 -> 1812 | J41: =C41-I41 -> -246 | K41: =K30+K40 -> 442 | L41: =L30+L40 -> 2254 | M41: =M30+M40 -> -246
A42: D | B42: Finanszírozási célú bevételek | C42: ='bevétfő '!H81 -> 246 | D42: ='bevétfő '!I81 -> 0 | E42: ='bevétfő '!J81 -> 246 | G42: D | H42: Finanszírozási célú kiadások összesen | I42: 0 | J42: =C42-I42 -> 246 | K42: 0 | L42: 0 | M42: =E42-L42 -> 246
A43: E | B43: TÁRGYÉVI BEVÉTELEK ÖSSZESEN: | C43: =SUM(C41:C42) -> 1812 | D43: =SUM(D41:D42) -> 442 | E43: =SUM(E41:E42) -> 2254 | G43: E | H43: TÁRGYÉVI KIADÁSOK ÖSSZESEN: | I43: =SUM(I41:I42) -> 1812 | J43: =C43-I43 -> 0 | K43: =SUM(K41:K42) -> 442 | L43: =SUM(L41:L42) -> 2254 | M43: =SUM(M41:M42) -> 0
C45: ='bevétfő '!H82 -> 1812 | D45: ='bevétfő '!I82 -> 442 | E45: ='bevétfő '!J82 -> 2254 | F45: ='bevétfő '!K82 -> 0 | I45: =C43-I43 -> 0 | K45: =D43-K43 -> 0 | L45: =E43-L43 -> 0 | M45: =E43-L43 -> 0
C47: =C43-C45 -> 0 | D47: =D43-D45 -> 0 | E47: =E43-E45 -> 0 | F47: =F43-F45 -> 0
F81: =SUM(F77:F80) -> 0 | G81: =SUM(G77:G80) -> 0 | H81: =SUM(H77:H80) -> 0

Sheet III. negyedévi módosítás
G1: 6. melléklet a …/2025.(…...)
G2: határozathoz
G3: a 6/2025. (II.25.) határozat 12. melléklete
A5: Budapest XXII. kerületi Örmény Nemzetiségi Önkormányzat
A6: 2025. évi költségvetés III. negyedévi módosításának részletes bemutatása
G8: ezer Ft-ban
A9: Előirányzati sor megnevezése | C9: Rovat | D9: Módosítás összege | E9: Változások
E10: összeg | F10: indok | G10: tárgy
A11: BEVÉTELEK
A12: 1 | B12: Egyéb működési célú támogatások bevételei államháztartáson belülről | C12: B16 | D12: 438 | E12: 438 | F12: többletbevételek, illetve bevételi elmaradások számbavétele | G12: feladatalapú támogatás
A13: 2 | B13: Működési bevételek | C13: B4 | D13: 4 | E13: 4 | F13: többletbevételek, illetve bevételi elmaradások számbavétele | G13: saját bevétel/kiadás - kamatbevételek
A14: 3 | B14: BEVÉTELI főösszeg változása összesen | D14: =SUM(D12:D13) -> 442 | E14: =SUM(E12:E13) -> 442
A15: KIADÁSOK
A16: 1 | B16: Dologi kiadások | C16: K3 | D16: 442 | E16: 438 | F16: többletbevételek, illetve bevételi elmaradások számbavétele | G16: feladatalapú támogatás
E17: 4 | F17: többletbevételek, illetve bevételi elmaradások számbavétele | G17: saját bevétel/kiadás - kamatbevételek
A18: 2 | B18: KIADÁSI főösszeg változása összesen | D18: =SUM(D16:D17) -> 442 | E18: =SUM(E16:E17) -> 442
