Workbook
Name _4._sz._sor_részletezése: #REF!
Name _4._sz._sor_részletezése: #REF!
Name _4._sz._sor_részletezése: #REF!
Name _4._sz._sor_részletezése: #REF!
Name ba: #REF!
Name ba: #REF!
Name ba: #REF!
Name bb: #REF!
Name bb: #REF!
Name bb: #REF!
Name bc: #REF!
Name bc: #REF!
Name bc: #REF!
Name bd: #REF!
Name bd: #REF!
Name bd: #REF!
Name fa: #REF!
Name fa: #REF!
Name fa: #REF!
Name fb: #REF!
Name fb: #REF!
Name fb: #REF!
Name fc: #REF!
Name fc: #REF!
Name fc: #REF!
Name fd: #REF!
Name fd: #REF!
Name fd: #REF!
Name pa: #REF!
Name pa: #REF!
Name pa: #REF!
Name pa: #REF!
Name pb: #REF!
Name pb: #REF!
Name pb: #REF!
Name pc: #REF!
Name pc: #REF!
Name pc: #REF!
Name pd: #REF!
Name pd: #REF!
Name pd: #REF!
Name pe: #REF!
Name pe: #REF!
Name pe: #REF!
Name pf: #REF!
Name pf: #REF!
Name pf: #REF!
Name pg: #REF!
Name pg: #REF!
Name pg: #REF!
Name ph: #REF!
Name ph: #REF!
Name ph: #REF!
Name pi: #REF!
Name pi: #REF!
Name pi: #REF!
Name pj: #REF!
Name pj: #REF!
Name pj: #REF!
Name pk: #REF!

Sheet bevétfő 
J1: 1. melléklet a …./2026.(…...)
J2: határozathoz
A3: Budapest XXII. kerületi Román Nemzetiségi Önkormányzat
A4: 2025. évi tervezett bevételei
J5: ezer Ft-ban
A6: Sorszám | B6: Előirányzat (rovat) megnevezése | F6: Rovat- szám | G6: Tárgyévet megelőző év tényadatai (2024) | H6: Érvényes előiárnyzat | I6: módosítás ( ± ) | J6: Módosított előirányzat
A7: 1 | B7: 2 | F7: 3 | G7: 4 | H7: 5 | I7: 6 | J7: 7
A8: 1 | B8: Önkormányzat működési támogatása (a - f) | F8: B11 | G8: =SUM(G9:G14) -> 0 | H8: =SUM(H9:H14) -> 0 | I8: =SUM(I9:I14) -> 0 | J8: =SUM(J9:J14) -> 0
B9: a | C9: Helyi önkormányzatok működésének általános támogatása | F9: B111 | J9: =SUM(H9:I9) -> 0
B10: b | C10: Települési önkormányzatok egyes köznevelési feladatainak támogatása | F10: B112 | J10: =SUM(H10:I10) -> 0
B11: c | C11: Települési önkormányzatok szociális, gyermekjóléti és gyermekétkeztetési feladatainak támogatása | F11: B113 | J11: =SUM(H11:I11) -> 0
B12: d | C12: Települési önkormányzatok kulturális feladatainak támogatása | F12: B114 | J12: =SUM(H12:I12) -> 0
B13: e | C13: Működési célú költségvetési támogatások és kiegészítő támogatások | F13: B115 | J13: =SUM(H13:I13) -> 0
B14: f | C14: Elszámolásból származó bevételek | F14: B116 | J14: =SUM(H14:I14) -> 0
A15: 2 | B15: Elvonások és befizetések bevételei | F15: B12 | J15: =SUM(H15:I15) -> 0
A16: 3 | B16: Egyéb működési célú támogatások bevételei államháztartáson belülről | F16: B16 | G16: =SUM(G17:G19) -> 87 | H16: =SUM(H17:H19) -> 1894 | I16: =SUM(I17:I19) -> 0 | J16: =SUM(J17:J19) -> 1894
C17: ebből: | D17: Társadalombiztosítás pénzügyi alanyaitól | F17: B16 | J17: =SUM(H17:I17) -> 0
C18: ebből: | D18: Helyi önkormányzatoktól és költségvetési szerveiktől | F18: B16 | H18: 600 | J18: =SUM(H18:I18) -> 600
C19: ebből: | D19: Egyéb államháztartáson belüli szervezettől, központi kezelésű előirányzatból | F19: B16 | G19: 87 | H19: 1294 | J19: =SUM(H19:I19) -> 1294
A20: I. | B20: Működési célú támogatások államháztartáson belülről | F20: B1 | G20: =G8+G15+G16 -> 87 | H20: =H8+H15+H16 -> 1894 | I20: =I8+I15+I16 -> 0 | J20: =J8+J15+J16 -> 1894
A21: 1 | B21: Jövedelemadók | F21: B31 | G21: 0 | H21: 0 | I21: 0 | J21: =SUM(H21:I21) -> 0
A22: 2 | B22: Vagyoni típusú adók | F22: B34 | G22: =SUM(G23:G25) -> 0 | H22: =SUM(H23:H25) -> 0 | I22: =SUM(I23:I25) -> 0 | J22: =SUM(J23:J25) -> 0
B23: a | C23: Építményadó | F23: B34 | J23: =SUM(H23:I23) -> 0
B24: b | C24: Kommunális adó | F24: B34 | J24: =SUM(H24:I24) -> 0
B25: c | C25: Telekadó | F25: B34 | J25: =SUM(H25:I25) -> 0
A26: 3 | B26: Termékek és szolgáltatások adói | F26: B35 | G26: =SUM(G27:G29) -> 0 | H26: =SUM(H27:H29) -> 0 | I26: =SUM(I27:I29) -> 0 | J26: =SUM(J27:J29) -> 0
B27: a | C27: Értékesítési és forgalmi adók (Iparűzési adó) | F27: B351 | J27: =SUM(H27:I27) -> 0
B28: b | C28: Fogyasztási adók (jövedéki rész) | F28: B352 | J28: =SUM(H28:I28) -> 0
B29: c | C29: Gépjárműadó | F29: B354 | J29: =SUM(H29:I29) -> 0
B30: d | C30: Egyéb áruhasználati és szolgáltatási adók | F30: B355 | J30: 0
A31: 4 | B31: Egyéb közhatalmi bevételek | F31: B36 | G31: =SUM(G32:G36) -> 0 | H31: =SUM(H32:H36) -> 0 | I31: =SUM(I32:I36) -> 0 | J31: =SUM(J32:J36) -> 0
C32: ebből: | D32: Igazgatási szolgáltatási díj | F32: B36 | J32: =SUM(H32:I32) -> 0
C33: ebből: | D33: Környezetvédelmi bírság | F33: B36 | J33: =SUM(H33:I33) -> 0
C34: ebből: | D34: Építésügyi bírság | F34: B36 | J34: =SUM(H34:I34) -> 0
C35: ebből: | D35: Szabálysértési bírság | F35: B36 | J35: =SUM(H35:I35) -> 0
C36: ebből: | D36: Egyéb bírság | F36: B36 | J36: =SUM(H36:I36) -> 0
A37: II. | B37: Közhatalmi bevételek | F37: B3 | G37: =G21+G22++G26+G31 -> 0 | H37: =H21+H22++H26+H31 -> 0 | I37: =I21+I22++I26+I31 -> 0 | J37: =J21+J22++J26+J31 -> 0
A38: 1 | B38: Készletértékesítés ellenértéke | F38: B401 | J38: =SUM(H38:I38) -> 0
A39: 2 | B39: Szolgáltatások ellenértéke | F39: B402 | J39: =SUM(H39:I39) -> 0
C40: ebből: | D40: Tárgyi eszköz bérbeadásából származó bevétel | F40: B402 | J40: =SUM(H40:I40) -> 0
...

Sheet kiadfő 
I1: 2. melléklet a …./2026.(…...)
I2: határozathoz
A4: Budapest XXII. kerületi Román Nemzetiségi Önkormányzat
A5: 2025. évi tervezett kiadásai
I6: ezer Ft-ban
A7: Sorszám | B7: Előirányzat (rovat) megnevezése | E7: Rovat- szám | F7: Tárgyévet megelőző év tényadatai (2024) | G7: Érvényes előiárnyzat | H7: módosítás ( ± ) | I7: Módosított előirányzat
A8: 1 | B8: 2 | E8: 3 | F8: 4 | G8: 5 | H8: 6 | I8: 7
A9: I. | B9: Személyi juttatások | E9: K1 | F9: 64 | G9: ='önállóan működő'!O11 -> 81 | H9: ='önállóan működő'!P11 -> 460 | I9: ='önállóan működő'!Q11 -> 541
A10: II. | B10: Munkaadókat terhelő járulékok és szociális hozzájárulási adó | E10: K2 | F10: 0 | G10: ='önállóan működő'!O12 -> 0 | H10: ='önállóan működő'!P12 -> 60 | I10: ='önállóan működő'!Q12 -> 60
A11: III. | B11: Dologi kiadások | E11: K3 | F11: 20 | G11: ='önállóan működő'!O13 -> 1255 | H11: ='önállóan működő'!P13 -> -556 | I11: ='önállóan működő'!Q13 -> 699
A12: IV. | B12: Ellátottak pénzbeli juttatásai | E12: K4 | G12: ='önállóan működő'!O14 -> 0 | H12: ='önállóan működő'!P14 -> 0 | I12: ='önállóan működő'!Q14 -> 0
B13: 1 | C13: Elvonások és befizetések | E13: K502 | I13: =SUM(G13:H13) -> 0
B14: 2 | C14: Működési célú visszatérítendő támogatások, kölcsönök nyújtása áht-n belülre | E14: K504 | I14: =SUM(G14:H14) -> 0
B15: 3 | C15: Működési célú visszatérítendő támogatások, kölcsönök törlesztése áht-n belülre | E15: K505 | I15: =SUM(G15:H15) -> 0
B16: 4 | C16: Egyéb működési célú támogatások államháztartáson belülre | E16: K506 | F16: =SUM(F17:F20) -> 0 | G16: =SUM(G17:G20) -> 3 | H16: =SUM(H17:H20) -> 0 | I16: =SUM(I17:I20) -> 3
C17: ebből: | D17: központi költségvetési szervek részére | E17: =E16 -> K506 | I17: =SUM(G17:H17) -> 0
C18: ebből: | D18: központi kezelésű előirányzatnak | E18: K506 | G18: 3 | I18: =SUM(G18:H18) -> 3
C19: ebből: | D19: egyéb fejezeti kezelésű előirányzatok | E19: =E16 -> K506 | I19: =SUM(G19:H19) -> 0
C20: ebből: | D20: helyi nemzetiségi önkorámnyzatok és költségvetési szerveik részére | E20: =E19 -> K506 | I20: =SUM(G20:H20) -> 0
B21: 5 | C21: Működési célú visszatérítendő támogatások, kölcsönök nyújtása áht-n kívülre | E21: K508 | F21: =SUM(F22:F26) -> 0 | G21: =SUM(G22:G26) -> 0 | H21: =SUM(H22:H26) -> 0 | I21: =SUM(I22:I26) -> 0
C22: ebből: | D22: egyházi jogi személyek részére | E22: =E21 -> K508 | I22: =SUM(G22:H22) -> 0
C23: ebből: | D23: egyéb civil szervezetek részére | E23: =E22 -> K508 | I23: =SUM(G23:H23) -> 0
C24: ebből: | D24: háztartások részére | E24: =E23 -> K508 | I24: =SUM(G24:H24) -> 0
C25: ebből: | D25: önkormányzati tulajdonú gazdasági társaságoknak | E25: =E24 -> K508 | I25: =SUM(G25:H25) -> 0
C26: ebből: | D26: egyéb gazdasági társaságnak | E26: =E24 -> K508 | I26: =SUM(G26:H26) -> 0
B27: 6 | C27: Egyéb működési célú támogatások államháztartáson kívülre | E27: K512 | F27: =SUM(F28:F32) -> 0 | G27: =SUM(G28:G32) -> 0 | H27: =SUM(H28:H32) -> 0 | I27: =SUM(I28:I32) -> 0
C28: ebből: | D28: egyházi jogi személyek részére | E28: =E27 -> K512 | I28: =SUM(G28:H28) -> 0
C29: ebből: | D29: egyéb civil szervezetek részére | E29: =E28 -> K512 | I29: =SUM(G29:H29) -> 0
C30: ebből: | D30: háztartások részére | E30: =E29 -> K512 | I30: =SUM(G30:H30) -> 0
C31: ebből: | D31: önkormányzati tulajdonú gazdasági társaságoknak | E31: =E29 -> K512 | I31: =SUM(G31:H31) -> 0
C32: ebből: | D32: egyéb gazdasági társaságnak | E32: =E30 -> K512 | I32: =SUM(G32:H32) -> 0
B33: 7 | C33: Tartalékok | E33: K513 | F33: =SUM(F34:F35) -> 0 | G33: =SUM(G34:G35) -> 0 | H33: =SUM(H34:H35) -> 0 | I33: =SUM(I34:I35) -> 0
C34: ebből: | D34: Általános tartalék | E34: K513 | I34: =SUM(G34:H34) -> 0
C35: ebből: | D35: Céltartalék | E35: K513 | I35: =SUM(G35:H35) -> 0
A36: V. | B36: Egyéb működési célú kiadások | E36: K5 | F36: =F13+F14+F15+F16+F21+F27+F33 -> 0 | G36: =G13+G14+G15+G16+G21+G27+G33 -> 3 | H36: =H13+H14+H15+H16+H21+H27+H33 -> 0 | I36: =I13+I14+I15+I16+I21+I27+I33 -> 3
A37: A. | B37: Működési kiadások összesen (I+II+III+IV+V) | F37: =F9+F10+F11+F12+F36 -> 84 | G37: =G9+G10+G11+G12+G36 -> 1339 | H37: =H9+H10+H11+H12+H36 -> -36 | I37: =I9+I10+I11+I12+I36 -> 1303
A38: MŰKÖDÉSI KÖLTSÉGVETÉS EGYENLEGE (működési bevétel - működési kiadás) | F38: ='bevétfő '!G54-'kiadfő '!F37 -> 3 | G38: ='bevétfő '!H54-'kiadfő '!G37 -> 588 | H38: ='bevétfő '!I54-'kiadfő '!H37 -> 43 | I38: ='bevétfő '!J54-'kiadfő '!I37 -> 631
B39: a. | C39: Önkormányzati beruházások | E39: K6 | G39: 591 | H39: 43 | I39: =SUM(G39:H39) -> 634
B40: b. | C40: Intézmények saját hatáskörben végrehajtott beruházásai | E40: K6 | I40: =SUM(G40:H40) -> 0
A41: VI. | B41: Beruházások | E41: K6 | F41: =SUM(F39:F40) -> 0 | G41: =SUM(G39:G40) -> 591 | H41: =SUM(H39:H40) -> 43 | I41: =SUM(I39:I40) -> 634
...

Sheet önállóan működő
Q1: 3. melléklet a …./2026.(…...)
Q2: határozathoz
A4: Budapest XXII. kerületi Román Nemzetiségi Önkormányzat
A5: 2025. évi tervezett előirányzatai
Q6: ezer Ft-ban
A7: Sor- | B7: C í m r e n d | C7: Működési támogatás | F7: Feladatalapú támogatás | I7: Saját bevétel/kiadás | L7: Önkormányzati támogatás | O7: Önkormányzat összesen
A8: szám | B8: Előirányzatok megnevezése | C8: Érvényes előirányzat | D8: módosítás ( ± ) | E8: Módosított előirányzat | F8: Érvényes előirányzat | G8: módosítás ( ± ) | H8: Módosított előirányzat | I8: Érvényes előirányzat | J8: módosítás ( ± ) | K8: Módosított előirányzat | L8: Érvényes előirányzat | M8: módosítás ( ± ) | N8: Módosított előirányzat | O8: Érvényes előirányzat | P8: módosítás ( ± ) | Q8: Módosított előirányzat
A9: 1 | B9: 2 | C9: 3 | D9: 4 | E9: 5 | F9: 6 | G9: 7 | H9: 8 | I9: 9 | J9: 10 | K9: 11 | L9: 12 | M9: 13 | N9: 14 | O9: 15 | P9: 16 | Q9: 17
B10: K I A D Á S O K
A11: 1 | B11: Személyi juttatások | D11: 225 | E11: =SUM(C11:D11) -> 225 | G11: 97 | H11: =F11+G11 -> 97 | K11: =I11+J11 -> 0 | L11: 81 | M11: 138 | N11: =L11+M11 -> 219 | O11: =C11+F11+I11+L11 -> 81 | P11: =D11+G11+J11+M11 -> 460 | Q11: =SUM(O11:P11) -> 541
A12: 2 | B12: Munkaadót terhelő járulékok és szociális hozzájárulási adó | D12: 60 | E12: =SUM(C12:D12) -> 60 | H12: =SUM(F12:G12) -> 0 | K12: =SUM(I12:J12) -> 0 | N12: =SUM(L12:M12) -> 0 | O12: =C12+F12+I12+L12 -> 0 | P12: =D12+G12+J12+M12 -> 60 | Q12: =SUM(O12:P12) -> 60
A13: 3 | B13: Dologi kiadások | C13: 449 | D13: -328 | E13: =SUM(C13:D13) -> 121 | F13: 254 | G13: -97 | H13: =F13+G13 -> 157 | I13: 33 | J13: 7 | K13: =I13+J13 -> 40 | L13: 519 | M13: -138 | N13: =L13+M13 -> 381 | O13: =C13+F13+I13+L13 -> 1255 | P13: =D13+G13+J13+M13 -> -556 | Q13: =SUM(O13:P13) -> 699
A14: 4 | B14: Ellátottak pénzbeli juttatásai | E14: =SUM(C14:D14) -> 0 | H14: =SUM(F14:G14) -> 0 | K14: =SUM(I14:J14) -> 0 | N14: =SUM(L14:M14) -> 0 | O14: =C14+F14+I14+L14 -> 0 | P14: =D14+G14+J14+M14 -> 0 | Q14: =SUM(O14:P14) -> 0
A15: a | B15: elvonások és befizetések | E15: =C15+D15 -> 0 | H15: =F15+G15 -> 0 | K15: =I15+J15 -> 0 | N15: =L15+M15 -> 0 | O15: =C15+F15+I15+L15 -> 0 | P15: =D15+G15+J15+M15 -> 0 | Q15: =SUM(O15:P15) -> 0
A16: b | B16: műk. célú visszatérintendő tám., kölcsön nyújtás áht-n belül | E16: =C16+D16 -> 0 | H16: =F16+G16 -> 0 | K16: =I16+J16 -> 0 | N16: =L16+M16 -> 0 | O16: =C16+F16+I16+L16 -> 0 | P16: =D16+G16+J16+M16 -> 0 | Q16: =SUM(O16:P16) -> 0
A17: c | B17: műk. célú visszatérintendő tám., kölcsön törlesztése áht-n belül | E17: =C17+D17 -> 0 | H17: =F17+G17 -> 0 | K17: =I17+J17 -> 0 | N17: =L17+M17 -> 0 | O17: =C17+F17+I17+L17 -> 0 | P17: =D17+G17+J17+M17 -> 0 | Q17: =SUM(O17:P17) -> 0
A18: d | B18: egyéb működési célú támogatások áht-n belülre | C18: 3 | E18: =C18+D18 -> 3 | H18: =F18+G18 -> 0 | K18: =I18+J18 -> 0 | N18: =L18+M18 -> 0 | O18: =C18+F18+I18+L18 -> 3 | P18: =D18+G18+J18+M18 -> 0 | Q18: =SUM(O18:P18) -> 3
A19: e | B19: műk. célú visszatérintendő tám., kölcsön nyújtás áht-n kívül | E19: =C19+D19 -> 0 | H19: =F19+G19 -> 0 | K19: =I19+J19 -> 0 | N19: =L19+M19 -> 0 | O19: =C19+F19+I19+L19 -> 0 | P19: =D19+G19+J19+M19 -> 0 | Q19: =SUM(O19:P19) -> 0
A20: f | B20: műk. célú visszatérintendő tám., kölcsön törlesztése áht-n kívül | E20: =C20+D20 -> 0 | H20: =F20+G20 -> 0 | K20: =I20+J20 -> 0 | N20: =L20+M20 -> 0 | O20: =C20+F20+I20+L20 -> 0 | P20: =D20+G20+J20+M20 -> 0 | Q20: =SUM(O20:P20) -> 0
A21: g | B21: egyéb működési célú támogatások áht-n kívül | E21: =C21+D21 -> 0 | H21: =F21+G21 -> 0 | K21: =I21+J21 -> 0 | N21: =L21+M21 -> 0 | O21: =C21+F21+I21+L21 -> 0 | P21: =D21+G21+J21+M21 -> 0 | Q21: =SUM(O21:P21) -> 0
A22: h | B22: tartalékok | E22: =C22+D22 -> 0 | H22: =F22+G22 -> 0 | K22: =I22+J22 -> 0 | N22: =L22+M22 -> 0 | O22: =C22+F22+I22+L22 -> 0 | P22: =D22+G22+J22+M22 -> 0 | Q22: =SUM(O22:P22) -> 0
A23: 5 | B23: Egyéb működési célú kiadások | C23: =SUM(C15:C22) -> 3 | D23: =SUM(D15:D22) -> 0 | E23: =SUM(E15:E22) -> 3 | F23: =SUM(F15:F22) -> 0 | G23: =SUM(G15:G22) -> 0 | H23: =SUM(H15:H22) -> 0 | I23: =SUM(I15:I22) -> 0 | J23: =SUM(J15:J22) -> 0 | ... Q23: =SUM(Q15:Q22) -> 3
A24: 6 | B24: Beruházások (ÁFA-val) | C24: 591 | D24: 43 | E24: =C24+D24 -> 634 | H24: =F24+G24 -> 0 | K24: =I24+J24 -> 0 | N24: =L24+M24 -> 0 | O24: =C24+F24+I24+L24 -> 591 | P24: =D24+G24+J24+M24 -> 43 | Q24: =SUM(O24:P24) -> 634
A25: 7 | B25: Felújítások (ÁFA-val) | E25: =C25+D25 -> 0 | H25: =F25+G25 -> 0 | K25: =I25+J25 -> 0 | N25: =L25+M25 -> 0 | O25: =C25+F25+I25+L25 -> 0 | P25: =D25+G25+J25+M25 -> 0 | Q25: =SUM(O25:P25) -> 0
A26: a | B26: felh.. célú visszatérintendő tám., kölcsön nyújtás áht-n belül | E26: =C26+D26 -> 0 | H26: =F26+G26 -> 0 | K26: =I26+J26 -> 0 | N26: =L26+M26 -> 0 | O26: =C26+F26+I26+L26 -> 0 | P26: =D26+G26+J26+M26 -> 0 | Q26: =SUM(O26:P26) -> 0
A27: b | B27: felh. célú visszatérintendő tám., kölcsön törlesztése áht-n belül | E27: =C27+D27 -> 0 | H27: =F27+G27 -> 0 | K27: =I27+J27 -> 0 | N27: =L27+M27 -> 0 | O27: =C27+F27+I27+L27 -> 0 | P27: =D27+G27+J27+M27 -> 0 | Q27: =SUM(O27:P27) -> 0
A28: c | B28: egyéb felhalmozási célú támogatások áht-n belülre | E28: =C28+D28 -> 0 | H28: =F28+G28 -> 0 | K28: =I28+J28 -> 0 | N28: =L28+M28 -> 0 | O28: =C28+F28+I28+L28 -> 0 | P28: =D28+G28+J28+M28 -> 0 | Q28: =SUM(O28:P28) -> 0
A29: d | B29: felh. célú visszatérintendő tám., kölcsön nyújtás áht-n kívül | E29: =C29+D29 -> 0 | H29: =F29+G29 -> 0 | K29: =I29+J29 -> 0 | N29: =L29+M29 -> 0 | O29: =C29+F29+I29+L29 -> 0 | P29: =D29+G29+J29+M29 -> 0 | Q29: =SUM(O29:P29) -> 0
A30: e | B30: egyéb felhalmozási célú támogatások áht-n kívül | E30: =C30+D30 -> 0 | H30: =F30+G30 -> 0 | K30: =I30+J30 -> 0 | N30: =L30+M30 -> 0 | O30: =C30+F30+I30+L30 -> 0 | P30: =D30+G30+J30+M30 -> 0 | Q30: =SUM(O30:P30) -> 0
A31: 8 | B31: Egyéb felhalmozási célú kiadások | C31: =SUM(C26:C30) -> 0 | D31: =SUM(D26:D30) -> 0 | E31: =SUM(E26:E30) -> 0 | F31: =SUM(F26:F30) -> 0 | G31: =SUM(G26:G30) -> 0 | H31: =SUM(H26:H30) -> 0 | I31: =SUM(I26:I30) -> 0 | J31: =SUM(J26:J30) -> 0 | ... Q31: =SUM(Q26:Q30) -> 0
A32: 9 | B32: Finanszírozási célú kiadások összesen | E32: =C32+D32 -> 0 | H32: =F32+G32 -> 0 | K32: =I32+J32 -> 0 | N32: =L32+M32 -> 0 | O32: =C32+F32+I32+L32 -> 0 | P32: =D32+G32+J32+M32 -> 0 | Q32: =SUM(O32:P32) -> 0
A33: 10 | E33: =SUM(C33:D33) -> 0 | H33: =SUM(F33:G33) -> 0 | K33: =SUM(I33:J33) -> 0 | N33: =SUM(L33:M33) -> 0 | Q33: =SUM(O33:P33) -> 0
A34: A | B34: KIADÁSOK összesen: (1-10-ig) | C34: =C11+C12+C13+C23+C14+C31+C25+C24+C32+C33 -> 1043 | D34: =D11+D12+D13+D23+D14+D31+D25+D24+D32+D33 -> 0 | E34: =E11+E12+E13+E23+E14+E31+E25+E24+E32+E33 -> 1043 | F34: =F11+F12+F13+F23+F14+F31+F25+F24+F32+F33 -> 254 | G34: =G11+G12+G13+G23+G14+G31+G25+G24+G32+G33 -> 0 | H34: =H11+H12+H13+H23+H14+H31+H25+H24+H32+H33 -> 254 | I34: =I11+I12+I13+I23+I14+I31+I25+I24+I32+I33 -> 33 | J34: =J11+J12+J13+J23+J14+J31+J25+J24+J32+J33 -> 7 | ... Q34: =Q11+Q12+Q13+Q23+Q14+Q31+Q25+Q24+Q32+Q33 -> 1937
B35: B E V É T E L E K
A36: a | B36: Önkormányzat működési támogatása | E36: =SUM(C36:D36) -> 0 | H36: =SUM(F36:G36) -> 0 | K36: =SUM(I36:J36) -> 0 | N36: =SUM(L36:M36) -> 0 | O36: =C36+F36+I36+L36 -> 0 | P36: =D36+G36+J36+M36 -> 0 | Q36: =SUM(O36:P36) -> 0
A37: b | B37: Elvonások és befizetések bevételei | E37: =C37+D37 -> 0 | H37: =F37+G37 -> 0 | K37: =I37+J37 -> 0 | N37: =L37+M37 -> 0 | O37: =C37+F37+I37+L37 -> 0 | P37: =D37+G37+J37+M37 -> 0 | Q37: =SUM(O37:P37) -> 0
A38: c | B38: Műk. célú visszat. tám-ok, kölcsönök visszatérülése áht-n belül | E38: =C38+D38 -> 0 | H38: =F38+G38 -> 0 | K38: =I38+J38 -> 0 | N38: =L38+M38 -> 0 | O38: =C38+F38+I38+L38 -> 0 | P38: =D38+G38+J38+M38 -> 0 | Q38: =SUM(O38:P38) -> 0
A39: d | B39: Egyéb műk.c. támogatások bevételei áht-n belül | C39: 1040 | E39: =C39+D39 -> 1040 | F39: 254 | H39: =F39+G39 -> 254 | K39: =I39+J39 -> 0 | L39: 600 | N39: =L39+M39 -> 600 | O39: =C39+F39+I39+L39 -> 1894 | P39: =D39+G39+J39+M39 -> 0 | Q39: =SUM(O39:P39) -> 1894
A40: 1 | B40: Működési célú támogatások áht-n belülről | C40: =SUM(C36:C39) -> 1040 | D40: =SUM(D36:D39) -> 0 | E40: =SUM(E36:E39) -> 1040 | F40: =SUM(F36:F39) -> 254 | G40: =SUM(G36:G39) -> 0 | H40: =SUM(H36:H39) -> 254 | I40: =SUM(I36:I39) -> 0 | J40: =SUM(J36:J39) -> 0 | ... Q40: =SUM(Q36:Q39) -> 1894
A41: a | B41: jövedelemadók | E41: =C41+D41 -> 0 | H41: =F41+G41 -> 0 | K41: =I41+J41 -> 0 | N41: =L41+M41 -> 0 | O41: =C41+F41+I41+L41 -> 0 | P41: =D41+G41+J41+M41 -> 0 | Q41: =SUM(O41:P41) -> 0
...

Sheet pénzeszk_felúj_beruh
E1: 4. sz. melléklet a …./2026.(…...) számú
E2: határozathoz
A4: Budapest XXII. kerületi Román Nemzetiségi Önkormányzat
A5: 1.) | B5: 2025. évi tervezett támogatások
E6: ezer Ft-ban
A7: Feladat megnevezése | C7: Érvényes előirányzat | D7: módosítás ( ± ) | E7: Módosított előirányzat
B8: 1 | C8: 2 | D8: 3 | E8: 4
E9: =SUM(C9:D9) -> 0
E10: =SUM(C10:D10) -> 0
A11: 1 | B11: Felhalmozási célú támogatások áht-n kívűl | C11: =SUM(C9:C10) -> 0 | D11: =SUM(D9:D10) -> 0 | E11: =SUM(E9:E10) -> 0
E12: =SUM(C12:D12) -> 0
E13: =SUM(C13:D13) -> 0
A14: 2 | B14: Felhalmozási támogatások áht-n belül összesen: | C14: =SUM(C13:C13) -> 0 | D14: =SUM(D13:D13) -> 0 | E14: =SUM(E13:E13) -> 0
A15: A | B15: Felhalmozási célú támogatások összesen: | C15: =C11+C14 -> 0 | D15: =D11+D14 -> 0 | E15: =E11+E14 -> 0
E16: =SUM(C16:D16) -> 0
E17: =SUM(C17:D17) -> 0
A18: 3 | B18: Működési célú támogatások áht-n kívűlre összesen: | C18: =SUM(C16:C17) -> 0 | D18: =SUM(D16:D17) -> 0 | E18: =SUM(E16:E17) -> 0
B19: Működési támogatás (fel nem használt támogatás visszautalása) | C19: 3 | E19: =SUM(C19:D19) -> 3 | IU19: =SUM(E19) -> 3
E20: =SUM(C20:D20) -> 0 | IU20: =SUM(E20) -> 0
A21: 4 | B21: Működési célú támogatások áht- belülre összesen: | C21: =SUM(C19:C20) -> 3 | D21: =SUM(D19:D20) -> 0 | E21: =SUM(C21:D21) -> 3
A22: B | B22: Működési célú támogatások összesen: | C22: =C18+C21 -> 3 | D22: =D18+D21 -> 0 | E22: =E18+E21 -> 3
A24: 2.) | B24: 2025. évi tervezett felújítások
E25: ezer Ft-ban
A26: s.sz. | B26: Feladat megnevezése | C26: Érvényes előirányzat | D26: módosítás ( ± ) | E26: Módosított előirányzat
E28: =SUM(C28:D28) -> 0
E29: =SUM(C29:D29) -> 0
E30: =SUM(C30:D30) -> 0
A31: A. | B31: Nemzetiségi önkormányzat felújításai összesen (I+II): | C31: =SUM(C28:C30) -> 0 | D31: =SUM(D28:D30) -> 0 | E31: =SUM(E28:E30) -> 0
A32: B. | B32: Intézmények által elvégzett felújítások:
B33: TERVEZETT FELÚJÍTÁSI KIADÁSOK ÖSSZESEN (A+B): | C33: =SUM(C31:C32) -> 0 | D33: =SUM(D31:D32) -> 0 | E33: =SUM(E31:E32) -> 0
A36: 3.) | B36: 2025. évi tervezett beruházások
E37: ezer Ft-ban
A38: s.sz. | B38: Feladat megnevezése | C38: Érvényes előirányzat | D38: módosítás ( ± ) | E38: Módosított előirányzat
B40: - laptop és tablet | C40: 408 | E40: =SUM(C40:D40) -> 408
B41: - mobiltelefon | C41: 183 | E41: =SUM(C41:D41) -> 183
B42: - nyomtató | D42: 43 | E42: =SUM(C42:D42) -> 43
B43: működési támogatás összesen | C43: =SUM(C40:C42) -> 591 | D43: =SUM(D40:D42) -> 43 | E43: =SUM(E40:E42) -> 634
E44: =SUM(C44:D44) -> 0
A45: A. | B45: Nemzetiségi önkormányzat beruházási összesen (I+II): | C45: =SUM(C43:C44) -> 591 | D45: =SUM(D43:D44) -> 43 | E45: =SUM(E43:E44) -> 634
A46: B. | B46: Intézmények által elvégzett felújítások:
...

Sheet pályázat-kötelező
K1: 5. melléklet a …./2026.(…...)
K2: határozathoz
K3: a 4/2025. (II.26.) határozat 9. melléklete
A6: Budapest XXII. kerületi Román Nemzetiségi Önkormányzat
A8: 1.) | B8: Pályázati forrásokból megvalósuló feladatok és azok 2025. évi üteme
I9: ezer Ft-ban
A10: sor-szám | B10: pályázat címe, pályázati cél | C10: pályázat / operatív program azonosító | D10: Projekt teljes költsége | G10: projekt 2025. évi ütemezése
D11: projekt teljes költsége | E11: pályázati forrás | F11: saját forrás | G11: pályázati forrás | H11: saját forrás | I11: tervezett összes kiadás
A12: 1. | B12: 2. | C12: 3. | D12: 4. | E12: 5. | F12: 6. | G12: 7. | H12: 8. | I12: 9.
A13: 1 | D13: =SUM(E13:F13) -> 0 | I13: =SUM(G13:H13) -> 0
A14: 2 | D14: =SUM(E14:F14) -> 0 | I14: =SUM(G14:H14) -> 0
A15: 3 | D15: =SUM(E15:F15) -> 0 | I15: =SUM(G15:H15) -> 0
A16: I. | B16: Europai Uniós forrásból finanszírozott pályázatok összesen: | D16: =SUM(D13:D15) -> 0 | E16: =SUM(E13:E15) -> 0 | F16: =SUM(F13:F15) -> 0 | G16: =SUM(G13:G15) -> 0 | H16: =SUM(H13:H15) -> 0 | I16: =SUM(I13:I15) -> 0
A17: 1 | D17: =SUM(E17:F17) -> 0 | I17: 0
A18: =A17+1 -> 2 | D18: =SUM(E18:F18) -> 0 | I18: 0
A19: II. | B19: Egyéb külföldi forrásból finanszírozott pályázatok összesen: | D19: =SUM(D17:D18) -> 0 | E19: =SUM(E17:E18) -> 0 | F19: =SUM(F17:F18) -> 0 | G19: =SUM(G17:G18) -> 0 | H19: =SUM(H17:H18) -> 0 | I19: =SUM(I17:I18) -> 0
A20: 1 | D20: =SUM(E20:F20) -> 0 | I20: =SUM(G20:H20) -> 0
A21: =A20+1 -> 2 | D21: =SUM(E21:F21) -> 0 | I21: =SUM(G21:H21) -> 0
A22: =A21+1 -> 3 | D22: =SUM(E22:F22) -> 0 | I22: =SUM(G22:H22) -> 0
A23: III. | B23: Hazai forrásból megvalósuló pályázatok | D23: =SUM(D20:D22) -> 0 | E23: =SUM(E20:E22) -> 0 | F23: =SUM(F20:F22) -> 0 | G23: =SUM(G20:G22) -> 0 | H23: =SUM(H20:H22) -> 0 | I23: =SUM(I20:I22) -> 0
A24: Pályázatokból megvalósuló fejlesztések összesen (I+II+III.): | D24: =D23+D19+D16 -> 0 | E24: =E23+E19+E16 -> 0 | F24: =F23+F19+F16 -> 0 | G24: =G23+G19+G16 -> 0 | H24: =H23+H19+H16 -> 0 | I24: =I23+I19+I16 -> 0
A30: 2.) | B30: 2025. évi költségvetési bevételek és kiadások
B31: Kötelező-, önként vállalt és államigazgatási feladatok bontásban
K32: ezer Ft-ban
A33: Sor-szám | B33: C í m r e n d | C33: Bevételek | H33: Kiadások
C34: állami hozzájárulás | D34: feladathoz kapcsolódó egyéb támogatás | E34: Önkormányzat egyéb bevételei | F34: finanszírozási bevételek | G34: Tervezett bevételek összesen | H34: kötelező feladatok kiadásai | I34: Önként vállalt feladatok | J34: államigaz-gatási feladatok | K34: Tervezett kiadások összesen
A36: 1 | B36: 2 | C36: 3 | D36: 4 | E36: 5 | F36: 6 | G36: 7 | H36: 8 | I36: 9 | J36: 10 | K36: 11
A37: 1 | B37: Működési támogatás | C37: 0 | D37: 1040 | E37: =G37-C37-D37-F37 -> 0 | F37: 3 | G37: =K37 -> 1043 | H37: =K37 -> 1043 | I37: =K37-H37 -> 0 | J37: 0 | K37: ='önállóan működő'!E34 -> 1043
A38: =A37+1 -> 2 | B38: Feladatalapú támogatás | C38: 0 | D38: =127+127 -> 254 | E38: =G38-C38-D38-F38 -> 0 | F38: 0 | G38: =K38 -> 254 | H38: =K38 -> 254 | I38: 0 | J38: 0 | K38: ='önállóan működő'!H34 -> 254
A39: =A38+1 -> 3 | B39: Saját bevétel/kiadás | C39: 0 | D39: 0 | E39: =G39-C39-D39-F39 -> 40 | F39: 0 | G39: =K39 -> 40 | H39: 0 | I39: =K39-H39 -> 40 | J39: 0 | K39: ='önállóan működő'!K34 -> 40
A40: =A39+1 -> 4 | B40: Önkormányzati támogatás | C40: 0 | D40: 600 | E40: =G40-C40-D40-F40 -> 0 | F40: 0 | G40: =K40 -> 600 | H40: 0 | I40: =K40-H40 -> 600 | J40: 0 | K40: ='önállóan működő'!N34 -> 600
A41: III. | B41: Önkormányzat összesen: | C41: =SUM(C37:C40) -> 0 | D41: =SUM(D37:D40) -> 1894 | E41: =SUM(E37:E40) -> 40 | F41: =SUM(F37:F40) -> 3 | G41: =SUM(G37:G40) -> 1937 | H41: =SUM(H37:H40) -> 1297 | I41: =SUM(I37:I40) -> 640 | J41: =SUM(J37:J40) -> 0 | K41: =SUM(K37:K40) -> 1937
D43: ='bevétfő '!J16+'bevétfő '!J52+'bevétfő '!J56+'bevétfő '!J69 -> 1894 | F43: ='bevétfő '!J81 -> 3 | G43: ='bevétfő '!J82 -> 1937 | K43: ='kiadfő '!I77 -> 1937

Sheet ktgvetési mérleg
M1: 6. melléklet a …/2026.(…...)
M2: határozathoz
J3: a 4/2025. (II.26.) határozat 10. melléklete
A4: Budapest XXII. kerületi Román Nemzetiségi Önkormányzat
A5: 2025. évi költségvetési mérlege
M10: ezer Ft-ban
A11: Sor-szám | B11: Bevételek előirányzat csoportonként | C11: tervezett bevételi előirányzatok (áht. 24.§ (4) ) | G11: Sor-szám | H11: Kiadások előirányzat csoportonként | I11: tervezett kiadási előirányzatok (áht. 24.§ (4) )
C12: érvényes előirányzat | D12: módosítás ( ± ) | E12: módosított előirányzat | I12: érvényes előirányzat | J12: hiány/többlet | K12: módosítás ( ± ) | L12: módosított előirányzat | M12: hiány/többlet
A13: I. | B13: Működési célú támogatások áht-n belülről összesen | C13: ='bevétfő '!H20 -> 1894 | D13: ='bevétfő '!I20 -> 0 | E13: ='bevétfő '!J20 -> 1894 | G13: I. | H13: Személyi juttatások | I13: ='kiadfő '!G9 -> 81 | K13: ='kiadfő '!H9 -> 460 | L13: ='kiadfő '!I9 -> 541
A14: 1 | B14: jövedelemadók | C14: 0 | D14: 0 | E14: 0 | G14: II. | H14: Munkaadót terhelő járulékok és szociális hozzájárulási adó | I14: ='kiadfő '!G10 -> 0 | K14: ='kiadfő '!H10 -> 60 | L14: ='kiadfő '!I10 -> 60
A15: 2 | B15: vagyoni típusú adók | C15: 0 | D15: 0 | E15: 0 | G15: III. | H15: Dologi kiadások | I15: ='kiadfő '!G11 -> 1255 | K15: ='kiadfő '!H11 -> -556 | L15: ='kiadfő '!I11 -> 699
A16: 3 | B16: termékek és szolgáltatások adói | C16: 0 | D16: 0 | E16: 0 | G16: IV. | H16: Ellátottak pénzbeli juttatásai (segélyek) | I16: 0 | K16: 0 | L16: 0
A17: 4 | B17: Egyéb közhatalmi bevételek | C17: 0 | D17: 0 | E17: 0 | G17: 1 | H17: Elvonások és befizetések | I17: 0 | K17: 0 | L17: 0
A18: II. | B18: Közhatalmi bevételek (1+2+3+4) | C18: =SUM(C14:C17) -> 0 | D18: =SUM(D14:D17) -> 0 | E18: =SUM(E14:E17) -> 0 | G18: 2 | H18: Működési célú visszatérítendő támogatások, kölcsönök nyújtása áht-n belülre | I18: 0 | K18: 0 | L18: 0
A19: a | B19: Készletértékesítés ellenértéke | C19: 0 | D19: 0 | E19: 0 | G19: 3 | H19: Működési célú visszatérítendő támogatások, kölcsönök törlesztése áht-n belülre | I19: 0 | K19: 0 | L19: 0
A20: b | B20: Szolgáltatások, közvetített szolgáltatások összesen: | C20: 0 | D20: 0 | E20: 0 | G20: 4 | H20: Egyéb működési célú támogatások államháztartáson belülre | I20: ='kiadfő '!G16 -> 3 | K20: ='kiadfő '!H16 -> 0 | L20: ='kiadfő '!I16 -> 3
A21: c | B21: Tulajdonosi bevételek | C21: 0 | D21: 0 | E21: 0 | G21: 5 | H21: Működési célú visszatérítendő támogatások, kölcsönök nyújtása áht-n kívülre | I21: 0 | K21: 0 | L21: 0
A22: d | B22: Ellátási díjak | C22: 0 | D22: 0 | E22: 0 | G22: 6 | H22: Egyéb működési célú támogatások államháztartáson kívülre | I22: ='kiadfő '!G27 -> 0 | K22: ='kiadfő '!H27 -> 0 | L22: ='kiadfő '!I27 -> 0
A23: e | B23: Áfa bevételek, visszatérülések | C23: 0 | D23: 0 | E23: 0 | G23: 7 | H23: Működési célútartalék | I23: 0 | K23: 0 | L23: 0
A24: f | B24: Kamatbevételek | C24: ='bevétfő '!H46 -> 33 | D24: ='bevétfő '!I46 -> 7 | E24: ='bevétfő '!J46 -> 40 | H24: ebből: általános tartalék
A25: g | B25: Egyéb működési bevételek | C25: 0 | D25: 0 | E25: 0 | H25: ebből: működési céltartalék
A26: III. | B26: Működési bevételek (a+…+g) | C26: =SUM(C19:C25) -> 33 | D26: =SUM(D19:D25) -> 7 | E26: =SUM(E19:E25) -> 40 | G26: V. | H26: Egyéb működési célú kiadások (1+2+3+..+7) | I26: =SUM(I17:I23) -> 3 | K26: =SUM(K17:K23) -> 0 | L26: =SUM(L17:L23) -> 3
A27: 1 | B27: Működési célú támogatások, kölcsönök visszatérülése áht-n kívülről | C27: 0 | D27: 0 | E27: 0
A28: 2 | B28: Egyéb működési célú átvett pénzeszközök | C28: 0 | D28: 0 | E28: 0
A29: IV. | B29: Működési célú átvett pénzeszközök összesen (1+2): | C29: =SUM(C27:C28) -> 0 | D29: =SUM(D27:D28) -> 0 | E29: =SUM(E27:E28) -> 0
A30: A. | B30: MŰKÖDÉSI BEVÉTELEK ÖSSZESEN: (I+II+III+IV) | C30: =C13+C18+C26+C29 -> 1927 | D30: =D13+D18+D26+D29 -> 7 | E30: =E13+E18+E26+E29 -> 1934 | G30: A. | H30: MŰKÖDÉSI KIADÁSOK ÖSSZESEN: (I+II+III+IV+V) | I30: =I13+I14+I15+I16+I26 -> 1339 | J30: =C30-I30 -> 588 | K30: =K13+K14+K15+K16+K26 -> -36 | L30: =L13+L14+L15+L16+L26 -> 1303 | M30: =E30-L30 -> 631
A31: V. | B31: Felhalmozási célú támogatások államháztartáson belülről | C31: 0 | D31: 0 | E31: 0 | G31: VI. | H31: Beruházások összesen: | I31: ='kiadfő '!G41 -> 591 | K31: ='kiadfő '!H41 -> 43 | L31: ='kiadfő '!I41 -> 634
A32: 1 | B32: Immateriális javak értékesítése | C32: 0 | D32: 0 | E32: 0 | G32: VII. | H32: Felújítások összesen: | I32: 0 | K32: 0 | L32: 0
A33: 2 | B33: Ingatlanok értékesítése | C33: 0 | D33: 0 | E33: 0 | G33: 1 | H33: Felhalmozási célú visszatérítendő támogatások, kölcsönök nyújtása áht-n belülre | I33: 0 | K33: 0 | L33: 0
A34: 3 | B34: Egyéb tárgyi eszköz értékesítése | C34: 0 | D34: 0 | E34: 0 | G34: 2 | H34: Felhalmozási célú visszatérítendő támogtások, kölcsönök törlesztése áht-n belülre | I34: 0 | K34: 0 | L34: 0
A35: 4 | B35: Részesedések megszűnéséhez kapcsolódó bevételek | C35: 0 | D35: 0 | E35: 0 | G35: 3 | H35: Egyéb felhalmozási célú támogatások államháztartáson belülre | I35: 0 | K35: 0 | L35: 0
A36: VI. | B36: Felhalmozási bevételek összesen (1+…+4): | C36: =SUM(C32:C35) -> 0 | D36: =SUM(D32:D35) -> 0 | E36: =SUM(E32:E35) -> 0 | G36: 4 | H36: Felhalmozási célú visszatérítendő támogatások, kölcsönök nyújtása áht-n kívülre | I36: 0 | K36: 0 | L36: 0
A37: 1 | B37: Felhalmozási célú támogatás, kölcsön visszatérülése áht-n kívülről | C37: 0 | D37: 0 | E37: 0 | G37: 5 | H37: Egyéb felhalmozási célú támogatások államháztartáson kívülre | I37: 0 | K37: 0 | L37: 0
A38: 2 | B38: Felhalmozási célú átvett pénzeszközök összesen: | C38: 0 | D38: 0 | E38: 0 | G38: VIII. | H38: Egyéb felhalmozási célú kiadások (1+2+…+5) | I38: =SUM(I33:I37) -> 0 | K38: =SUM(K33:K37) -> 0 | L38: =SUM(L33:L37) -> 0
A39: VII. | B39: Felhalmozási célú átvett pénzeszközök összesen (1+2) | C39: =SUM(C37:C38) -> 0 | D39: =SUM(D37:D38) -> 0 | E39: =SUM(E37:E38) -> 0 | H39: Felhalmozási céltartalékok összesen:
A40: B | B40: FELHALMOZÁSI BEVÉTELEK ÖSSZESEN: (V+VI+VII) | C40: =C31+C36+C39 -> 0 | D40: =D31+D36+D39 -> 0 | E40: =E31+E36+E39 -> 0 | G40: B | H40: FELHALMOZÁSI KIADÁSOK ÖSSZESEN: (VI+VII+VIII) | I40: =I31+I32+I38+I39 -> 591 | J40: =C40-I40 -> -591 | K40: =K31+K32+K38+K39 -> 43 | L40: =L31+L32+L38+L39 -> 634 | M40: =E40-L40 -> -634
A41: C | B41: TÁRGYÉVI KÖLTSÉGVETÉSI BEVÉTELEK ÖSSZESEN: | C41: =C30+C40 -> 1927 | D41: =D30+D40 -> 7 | E41: =E30+E40 -> 1934 | G41: C | H41: TÁRGYÉVI KÖLTSÉGVETÉSI KIADÁSOK ÖSSZESEN: | I41: =I30+I40 -> 1930 | J41: =C41-I41 -> -3 | K41: =K30+K40 -> 7 | L41: =L30+L40 -> 1937 | M41: =M30+M40 -> -3
A42: D | B42: Finanszírozási célú bevételek | C42: ='bevétfő '!H81 -> 3 | D42: ='bevétfő '!I81 -> 0 | E42: ='bevétfő '!J81 -> 3 | G42: D | H42: Finanszírozási célú kiadások összesen | I42: 0 | J42: =C42-I42 -> 3 | K42: 0 | L42: 0 | M42: =E42-L42 -> 3
A43: E | B43: TÁRGYÉVI BEVÉTELEK ÖSSZESEN: | C43: =SUM(C41:C42) -> 1930 | D43: =SUM(D41:D42) -> 7 | E43: =SUM(E41:E42) -> 1937 | G43: E | H43: TÁRGYÉVI KIADÁSOK ÖSSZESEN: | I43: =SUM(I41:I42) -> 1930 | J43: =C43-I43 -> 0 | K43: =SUM(K41:K42) -> 7 | L43: =SUM(L41:L42) -> 1937 | M43: =SUM(M41:M42) -> 0
C45: ='bevétfő '!H82 -> 1930 | D45: ='bevétfő '!I82 -> 7 | E45: ='bevétfő '!J82 -> 1937 | F45: ='bevétfő '!K82 -> 0 | G45: ='bevétfő '!L82 -> 0 | I45: =C43-I43 -> 0 | K45: =D43-K43 -> 0 | L45: =E43-L43 -> 0 | M45: =E43-L43 -> 0
...

Sheet IV. negyedévi módosítás
G1: 7. melléklet a …/2026.(…...)
G2: határozathoz
G3: a 4/2025. (II.26.) határozat 13. melléklete
A5: Budapest XXII. kerületi Román Nemzetiségi Önkormányzat
A6: 2025. évi költségvetés IV. negyedévi módosításának részletes bemutatása
G8: ezer Ft-ban
A9: Előirányzati sor megnevezése | C9: Rovat | D9: Módosítás összege | E9: Változások
E10: összeg | F10: indok | G10: tárgy
A11: BEVÉTELEK
A12: 1 | B12: Működési bevételek | C12: B4 | D12: 7 | E12: 7 | F12: többletbevételek, illetve bevételi elmaradások számbavétele | G12: saját bevétel/kiadás - kamatbevételek
A13: 2 | B13: BEVÉTELI főösszeg változása összesen | D13: =SUM(D12:D12) -> 7 | E13: =SUM(E12:E12) -> 7
A14: KIADÁSOK
A15: 1 | B15: Személyi juttatások | C15: K1 | D15: 460 | E15: 225 | F15: kiemelt előirányzatok közötti átcsoportosítás | G15: működési támogatás - kiküldetés, ajándékutalvány, élelmiszer
E16: 97 | F16: kiemelt előirányzatok közötti átcsoportosítás | G16: feladatalapú támogatás - élelmiszer
E17: 138 | F17: kiemelt előirányzatok közötti átcsoportosítás | G17: önkormányzati támogatás - élelmiszer
A18: 2 | B18: Munkaadókat terhelő járulékok és szociális hozzájárulási adó | C18: K2 | D18: 60 | E18: 60 | F18: kiemelt előirányzatok közötti átcsoportosítás | G18: működési támogatás - kiküldetés, ajándékutalvány, élelmiszer
A19: 3 | B19: Dologi kiadások | C19: K3 | D19: -556 | E19: 7 | F19: többletbevételek, illetve bevételi elmaradások számbavétele | G19: saját bevétel/kiadás - kamatbevételek
E20: -328 | F20: kiemelt előirányzatok közötti átcsoportosítás | G20: működési támogatás - kiküldetés, ajándékutalvány, élelmiszer, nyomtató
E21: -97 | F21: kiemelt előirányzatok közötti átcsoportosítás | G21: feladatalapú támogatás - élelmiszer
E22: -138 | F22: kiemelt előirányzatok közötti átcsoportosítás | G22: önkormányzati támogatás - élelmiszer
A23: 4 | B23: Beruházások | C23: K6 | D23: 43 | E23: 43 | F23: kiemelt előirányzatok közötti átcsoportosítás | G23: működési támogatás - nyomtató beszerzése
A24: 2 | B24: KIADÁSI főösszeg változása összesen | D24: =SUM(D15:D23) -> 7 | E24: =SUM(E15:E23) -> 7
