Workbook
Name _4._sz._sor_részletezése: #REF!
Name _4._sz._sor_részletezése: #REF!
Name _4._sz._sor_részletezése: #REF!
Name ba: #REF!
Name ba: #REF!
Name bb: #REF!
Name bb: #REF!
Name bc: #REF!
Name bc: #REF!
Name bd: #REF!
Name bd: #REF!
Name fa: #REF!
Name fa: #REF!
Name fb: #REF!
Name fb: #REF!
Name fc: #REF!
Name fc: #REF!
Name fd: #REF!
Name fd: #REF!
Name pa: #REF!
Name pa: #REF!
Name pa: #REF!
Name pb: #REF!
Name pb: #REF!
Name pc: #REF!
Name pc: #REF!
Name pd: #REF!
Name pd: #REF!
Name pe: #REF!
Name pe: #REF!
Name pf: #REF!
Name pf: #REF!
Name pg: #REF!
Name pg: #REF!
Name ph: #REF!
Name ph: #REF!
Name pi: #REF!
Name pi: #REF!
Name pj: #REF!
Name pj: #REF!
Name pk: #REF!
Name pk: #REF!
Name pl: #REF!
Name pl: #REF!
Name pm: #REF!
Name pm: #REF!
Name pn: #REF!
Name pn: #REF!
Name po: #REF!
Name po: #REF!
Name pp: #REF!
Name pp: #REF!
Name ppa: #REF!
Name ppa: [1]Kötvény!#REF!
Name ppa: [1]Kötvény!#REF!
Name ppb: #REF!
Name ppb: [1]Kötvény!#REF!
Name ppb: [1]Kötvény!#REF!
Name ppc: #REF!
Name ppc: [1]Kötvény!#REF!

Sheet bevétfő 
I1: 1. melléklet a …./2025.(…...)
I2: határozathoz
A3: Budapest XXII. kerületi Roma Önkormányzat
A4: 2025. évi tervezett bevételei
I5: ezer Ft-ban
A6: Sorszám | B6: Előirányzat (rovat) megnevezése | F6: Rovat- szám | G6: Érvényes előiárnyzat | H6: módosítás ( ± ) | I6: Módosított előirányzat
A7: 1 | B7: 2 | F7: 3 | G7: 4 | H7: 5 | I7: 6
A8: 1 | B8: Önkormányzat működési támogatása (a - f) | F8: B11 | G8: =SUM(G9:G14) -> 0 | H8: =SUM(H9:H14) -> 0 | I8: =SUM(I9:I14) -> 0
B9: a | C9: Helyi önkormányzatok működésének általános támogatása | F9: B111 | I9: =SUM(G9:H9) -> 0
B10: b | C10: Települési önkormányzatok egyes köznevelési feladatainak támogatása | F10: B112 | I10: =SUM(G10:H10) -> 0
B11: c | C11: Települési önkormányzatok szociális, gyermekjóléti és gyermekétkeztetési feladatainak támogatása | F11: B113 | I11: =SUM(G11:H11) -> 0
B12: d | C12: Települési önkormányzatok kulturális feladatainak támogatása | F12: B114 | I12: =SUM(G12:H12) -> 0
B13: e | C13: Működési célú költségvetési támogatások és kiegészítő támogatások | F13: B115 | I13: =SUM(G13:H13) -> 0
B14: f | C14: Elszámolásból származó bevételek | F14: B116 | I14: =SUM(G14:H14) -> 0
A15: 2 | B15: Elvonások és befizetések bevételei | F15: B12 | I15: =SUM(G15:H15) -> 0
A16: 3 | B16: Egyéb működési célú támogatások bevételei államháztartáson belülről | F16: B16 | G16: 1040 | H16: =SUM(H17:H19) -> 0 | I16: =SUM(I17:I19) -> 1040
C17: ebből: | D17: Társadalombiztosítás pénzügyi alanyaitól | F17: B16 | I17: =SUM(G17:H17) -> 0
C18: ebből: | D18: Helyi önkormányzatoktól és költségvetési szerveiktől | F18: B16 | I18: =SUM(G18:H18) -> 0
C19: ebből: | D19: Egyéb államháztartáson belüli szervezettől, központi kezelésű előirányzatból | F19: B16 | G19: 1040 | I19: =SUM(G19:H19) -> 1040
A20: I. | B20: Működési célú támogatások államháztartáson belülről | F20: B1 | G20: =G8+G15+G16 -> 1040 | H20: =H8+H15+H16 -> 0 | I20: =I8+I15+I16 -> 1040
A21: 1 | B21: Jövedelemadók | F21: B31 | G21: 0 | H21: 0 | I21: =SUM(G21:H21) -> 0
A22: 2 | B22: Vagyoni típusú adók | F22: B34 | G22: =SUM(G23:G25) -> 0 | H22: =SUM(H23:H25) -> 0 | I22: =SUM(I23:I25) -> 0
B23: a | C23: Építményadó | F23: B34 | I23: =SUM(G23:H23) -> 0
B24: b | C24: Kommunális adó | F24: B34 | I24: =SUM(G24:H24) -> 0
B25: c | C25: Telekadó | F25: B34 | I25: =SUM(G25:H25) -> 0
A26: 3 | B26: Termékek és szolgáltatások adói | F26: B35 | G26: =SUM(G27:G29) -> 0 | H26: =SUM(H27:H29) -> 0 | I26: =SUM(I27:I29) -> 0
B27: a | C27: Értékesítési és forgalmi adók (Iparűzési adó) | F27: B351 | I27: =SUM(G27:H27) -> 0
B28: b | C28: Fogyasztási adók (jövedéki rész) | F28: B352 | I28: =SUM(G28:H28) -> 0
B29: c | C29: Gépjárműadó | F29: B354 | I29: =SUM(G29:H29) -> 0
B30: d | C30: Egyéb áruhasználati és szolgáltatási adók | F30: B355 | I30: =SUM(G30:H30) -> 0
A31: 4 | B31: Egyéb közhatalmi bevételek | F31: B36 | G31: =SUM(G32:G36) -> 0 | H31: =SUM(H32:H36) -> 0 | I31: =SUM(I32:I36) -> 0
C32: ebből: | D32: Igazgatási szolgáltatási díj | F32: B36 | I32: =SUM(G32:H32) -> 0
C33: ebből: | D33: Környezetvédelmi bírság | F33: B36 | I33: =SUM(G33:H33) -> 0
C34: ebből: | D34: Építésügyi bírság | F34: B36 | I34: =SUM(G34:H34) -> 0
C35: ebből: | D35: Szabálysértési bírság | F35: B36 | I35: =SUM(G35:H35) -> 0
C36: ebből: | D36: Egyéb bírság | F36: B36 | I36: =SUM(G36:H36) -> 0
A37: II. | B37: Közhatalmi bevételek | F37: B3 | G37: =G21+G22++G26+G31 -> 0 | H37: =H21+H22++H26+H31 -> 0 | I37: =I21+I22++I26+I31 -> 0
A38: 1 | B38: Készletértékesítés ellenértéke | F38: B401 | I38: =SUM(G38:H38) -> 0
A39: 2 | B39: Szolgáltatások ellenértéke | F39: B402 | I39: =SUM(G39:H39) -> 0
C40: ebből: | D40: Tárgyi eszköz bérbeadásából származó bevétel | F40: B402 | I40: =SUM(G40:H40) -> 0
...

Sheet kiadfő 
H1: 2. melléklet a …./2025.(…...)
H2: határozathoz
A4: Budapest XXII. kerületi Roma Önkormányzat
A5: 2025. évi tervezett kiadásai
H6: ezer Ft-ban
A7: Sorszám | B7: Előirányzat (rovat) megnevezése | E7: Rovat- szám | F7: Érvényes előiárnyzat | G7: módosítás ( ± ) | H7: Módosított előirányzat
A8: 1 | B8: 2 | E8: 3 | F8: 4 | G8: 5 | H8: 6
A9: I. | B9: Személyi juttatások | E9: K1 | F9: ='önállóan működő'!O11 -> 0 | G9: ='önállóan működő'!P11 -> 0 | H9: ='önállóan működő'!Q11 -> 0
A10: II. | B10: Munkaadókat terhelő járulékok és szociális hozzájárulási adó | E10: K2 | F10: ='önállóan működő'!O12 -> 0 | G10: ='önállóan működő'!P12 -> 0 | H10: ='önállóan működő'!Q12 -> 0
A11: III. | B11: Dologi kiadások | E11: K3 | F11: ='önállóan működő'!O13 -> 1040 | G11: ='önállóan működő'!P13 -> 68 | H11: ='önállóan működő'!Q13 -> 1108
A12: IV. | B12: Ellátottak pénzbeli juttatásai | E12: K4 | F12: ='önállóan működő'!O14 -> 0 | G12: ='önállóan működő'!P14 -> 0 | H12: ='önállóan működő'!Q14 -> 0
B13: 1 | C13: Elvonások és befizetések | E13: K502 | H13: =SUM(F13:G13) -> 0
B14: 2 | C14: Működési célú visszatérítendő támogatások, kölcsönök nyújtása áht-n belülre | E14: K504 | H14: =SUM(F14:G14) -> 0
B15: 3 | C15: Működési célú visszatérítendő támogatások, kölcsönök törlesztése áht-n belülre | E15: K505 | H15: =SUM(F15:G15) -> 0
B16: 4 | C16: Egyéb működési célú támogatások államháztartáson belülre | E16: K506 | F16: =SUM(F17:F19) -> 0 | G16: =SUM(G17:G19) -> 0 | H16: =SUM(H17:H19) -> 0
C17: ebből: | D17: központi költségvetési szervek részére | E17: =E16 -> K506 | H17: =SUM(F17:G17) -> 0
C18: ebből: | D18: egyéb fejezeti kezelésű előirányzatok | E18: =E16 -> K506 | H18: =SUM(F18:G18) -> 0
C19: ebből: | D19: helyi nemzetiségi önkorámnyzatok és költségvetési szerveik részére | E19: =E18 -> K506 | H19: =SUM(F19:G19) -> 0
B20: 5 | C20: Működési célú visszatérítendő támogatások, kölcsönök nyújtása áht-n kívülre | E20: K508 | F20: =SUM(F21:F25) -> 0 | G20: =SUM(G21:G25) -> 0 | H20: =SUM(H21:H25) -> 0
C21: ebből: | D21: egyházi jogi személyek részére | E21: =E20 -> K508 | H21: =SUM(F21:G21) -> 0
C22: ebből: | D22: egyéb civil szervezetek részére | E22: =E21 -> K508 | H22: =SUM(F22:G22) -> 0
C23: ebből: | D23: háztartások részére | E23: =E22 -> K508 | H23: =SUM(F23:G23) -> 0
C24: ebből: | D24: önkormányzati tulajdonú gazdasági társaságoknak | E24: =E23 -> K508 | H24: =SUM(F24:G24) -> 0
C25: ebből: | D25: egyéb gazdasági társaságnak | E25: =E23 -> K508 | H25: =SUM(F25:G25) -> 0
B26: 6 | C26: Egyéb működési célú támogatások államháztartáson kívülre | E26: K512 | F26: =SUM(F27:F31) -> 0 | G26: =SUM(G27:G31) -> 0 | H26: =SUM(H27:H31) -> 0
C27: ebből: | D27: egyházi jogi személyek részére | E27: =E26 -> K512 | H27: =SUM(F27:G27) -> 0
C28: ebből: | D28: egyéb civil szervezetek részére | E28: =E27 -> K512 | H28: =SUM(F28:G28) -> 0
C29: ebből: | D29: háztartások részére | E29: =E28 -> K512 | H29: =SUM(F29:G29) -> 0
C30: ebből: | D30: önkormányzati tulajdonú gazdasági társaságoknak | E30: =E28 -> K512 | H30: =SUM(F30:G30) -> 0
C31: ebből: | D31: egyéb gazdasági társaságnak | E31: =E29 -> K512 | H31: =SUM(F31:G31) -> 0
B32: 7 | C32: Tartalékok | E32: K513 | F32: =SUM(F33:F34) -> 0 | G32: =SUM(G33:G34) -> 0 | H32: =SUM(H33:H34) -> 0
C33: ebből: | D33: Általános tartalék | E33: K513 | H33: =SUM(F33:G33) -> 0
C34: ebből: | D34: Céltartalék | E34: K513 | H34: =SUM(F34:G34) -> 0
A35: V. | B35: Egyéb működési célú kiadások | E35: K5 | F35: =F13+F14+F15+F16+F20+F26+F32 -> 0 | G35: =G13+G14+G15+G16+G20+G26+G32 -> 0 | H35: =H13+H14+H15+H16+H20+H26+H32 -> 0
A36: A. | B36: Működési kiadások összesen (I+II+III+IV+V) | F36: =F9+F10+F11+F12+F35 -> 1040 | G36: =G9+G10+G11+G12+G35 -> 68 | H36: =H9+H10+H11+H12+H35 -> 1108
A37: MŰKÖDÉSI KÖLTSÉGVETÉS EGYENLEGE (működési bevétel - működési kiadás) | F37: ='bevétfő '!G54-'kiadfő '!F36 -> 0 | G37: ='bevétfő '!H54-'kiadfő '!G36 -> -68 | H37: ='bevétfő '!I54-'kiadfő '!H36 -> -68
B38: a. | C38: Önkormányzati beruházások | E38: K6 | H38: =SUM(F38:G38) -> 0
B39: b. | C39: Intézmények saját hatáskörben végrehajtott beruházásai | E39: K6 | H39: =SUM(F39:G39) -> 0
A40: VI. | B40: Beruházások | E40: K6 | F40: =SUM(F38:F39) -> 0 | G40: =SUM(G38:G39) -> 0 | H40: =SUM(H38:H39) -> 0
B41: a. | C41: Önkormányzati felújítások | E41: K7 | H41: =SUM(F41:G41) -> 0
...

Sheet önállóan működő
Q1: 3. melléklet a …./2025.(…...)
Q2: határozathoz
A4: Budapest XXII. kerületi Roma Önkormányzat
A5: 2025. évi tervezett előirányzatai
Q6: ezer Ft-ban
A7: Sor- | B7: C í m r e n d | C7: Működési támogatás | F7: Feladatalapú támogatás | I7: Saját bevétel/kiadás | L7: Önkormányzati támogatás | O7: Önkormányzat összesen
A8: szám | B8: Előirányzatok megnevezése | C8: Érvényes előirányzat | D8: módosítás ( ± ) | E8: Módosított előirányzat | F8: Érvényes előirányzat | G8: módosítás ( ± ) | H8: Módosított előirányzat | I8: Érvényes előirányzat | J8: módosítás ( ± ) | K8: Módosított előirányzat | L8: Érvényes előirányzat | M8: módosítás ( ± ) | N8: Módosított előirányzat | O8: Érvényes előirányzat | P8: módosítás ( ± ) | Q8: Módosított előirányzat
A9: 1 | B9: 2 | C9: 3 | D9: 4 | E9: 5 | F9: 6 | G9: 7 | H9: 8 | I9: 9 | J9: 10 | K9: 11 | L9: 12 | M9: 13 | N9: 14 | O9: 15 | P9: 16 | Q9: 17
B10: K I A D Á S O K
A11: 1 | B11: Személyi juttatások | E11: =SUM(C11:D11) -> 0 | H11: =F11+G11 -> 0 | K11: =I11+J11 -> 0 | N11: =L11+M11 -> 0 | O11: =C11+F11+I11+L11 -> 0 | P11: =D11+G11+J11+M11 -> 0 | Q11: =SUM(O11:P11) -> 0
A12: 2 | B12: Munkaadót terhelő járulékok és szociális hozzájárulási adó | E12: =SUM(C12:D12) -> 0 | H12: =SUM(F12:G12) -> 0 | K12: =SUM(I12:J12) -> 0 | N12: =SUM(L12:M12) -> 0 | O12: =C12+F12+I12+L12 -> 0 | P12: =D12+G12+J12+M12 -> 0 | Q12: =SUM(O12:P12) -> 0
A13: 3 | B13: Dologi kiadások | C13: 1040 | E13: 1040 | H13: =F13+G13 -> 0 | J13: 68 | K13: =I13+J13 -> 68 | N13: =L13+M13 -> 0 | O13: =C13+F13+I13+L13 -> 1040 | P13: =D13+G13+J13+M13 -> 68 | Q13: =SUM(O13:P13) -> 1108
A14: 4 | B14: Ellátottak pénzbeli juttatásai | E14: =SUM(C14:D14) -> 0 | H14: =SUM(F14:G14) -> 0 | K14: =SUM(I14:J14) -> 0 | N14: =SUM(L14:M14) -> 0 | O14: =C14+F14+I14+L14 -> 0 | P14: =D14+G14+J14+M14 -> 0 | Q14: =SUM(O14:P14) -> 0
A15: a | B15: elvonások és befizetések | E15: =C15+D15 -> 0 | H15: =F15+G15 -> 0 | K15: =I15+J15 -> 0 | N15: =L15+M15 -> 0 | O15: =C15+F15+I15+L15 -> 0 | P15: =D15+G15+J15+M15 -> 0 | Q15: =SUM(O15:P15) -> 0
A16: b | B16: műk. célú visszatérintendő tám., kölcsön nyújtás áht-n belül | E16: =C16+D16 -> 0 | H16: =F16+G16 -> 0 | K16: =I16+J16 -> 0 | N16: =L16+M16 -> 0 | O16: =C16+F16+I16+L16 -> 0 | P16: =D16+G16+J16+M16 -> 0 | Q16: =SUM(O16:P16) -> 0
A17: c | B17: műk. célú visszatérintendő tám., kölcsön törlesztése áht-n belül | E17: =C17+D17 -> 0 | H17: =F17+G17 -> 0 | K17: =I17+J17 -> 0 | N17: =L17+M17 -> 0 | O17: =C17+F17+I17+L17 -> 0 | P17: =D17+G17+J17+M17 -> 0 | Q17: =SUM(O17:P17) -> 0
A18: d | B18: egyéb működési célú támogatások áht-n belülre | E18: =C18+D18 -> 0 | H18: =F18+G18 -> 0 | K18: =I18+J18 -> 0 | N18: =L18+M18 -> 0 | O18: =C18+F18+I18+L18 -> 0 | P18: =D18+G18+J18+M18 -> 0 | Q18: =SUM(O18:P18) -> 0
A19: e | B19: műk. célú visszatérintendő tám., kölcsön nyújtás áht-n kívül | E19: =C19+D19 -> 0 | H19: =F19+G19 -> 0 | K19: =I19+J19 -> 0 | N19: =L19+M19 -> 0 | O19: =C19+F19+I19+L19 -> 0 | P19: =D19+G19+J19+M19 -> 0 | Q19: =SUM(O19:P19) -> 0
A20: f | B20: műk. célú visszatérintendő tám., kölcsön törlesztése áht-n kívül | E20: =C20+D20 -> 0 | H20: =F20+G20 -> 0 | K20: =I20+J20 -> 0 | N20: =L20+M20 -> 0 | O20: =C20+F20+I20+L20 -> 0 | P20: =D20+G20+J20+M20 -> 0 | Q20: =SUM(O20:P20) -> 0
A21: g | B21: egyéb működési célú támogatások áht-n kívül | E21: =C21+D21 -> 0 | H21: =F21+G21 -> 0 | K21: =I21+J21 -> 0 | N21: =L21+M21 -> 0 | O21: =C21+F21+I21+L21 -> 0 | P21: =D21+G21+J21+M21 -> 0 | Q21: =SUM(O21:P21) -> 0
A22: h | B22: tartalékok | E22: =C22+D22 -> 0 | H22: =F22+G22 -> 0 | K22: =I22+J22 -> 0 | N22: =L22+M22 -> 0 | O22: =C22+F22+I22+L22 -> 0 | P22: =D22+G22+J22+M22 -> 0 | Q22: =SUM(O22:P22) -> 0
A23: 5 | B23: Egyéb működési célú kiadások | C23: =SUM(C15:C22) -> 0 | D23: =SUM(D15:D22) -> 0 | E23: =SUM(E15:E22) -> 0 | F23: =SUM(F15:F22) -> 0 | G23: =SUM(G15:G22) -> 0 | H23: =SUM(H15:H22) -> 0 | I23: =SUM(I15:I22) -> 0 | J23: =SUM(J15:J22) -> 0 | ... Q23: =SUM(Q15:Q22) -> 0
A24: 6 | B24: Beruházások (ÁFA-val) | E24: =C24+D24 -> 0 | H24: =F24+G24 -> 0 | K24: =I24+J24 -> 0 | N24: =L24+M24 -> 0 | O24: =C24+F24+I24+L24 -> 0 | P24: =D24+G24+J24+M24 -> 0 | Q24: =SUM(O24:P24) -> 0
A25: 7 | B25: Felújítások (ÁFA-val) | E25: =C25+D25 -> 0 | H25: =F25+G25 -> 0 | K25: =I25+J25 -> 0 | N25: =L25+M25 -> 0 | O25: =C25+F25+I25+L25 -> 0 | P25: =D25+G25+J25+M25 -> 0 | Q25: =SUM(O25:P25) -> 0
A26: a | B26: felh.. célú visszatérintendő tám., kölcsön nyújtás áht-n belül | E26: =C26+D26 -> 0 | H26: =F26+G26 -> 0 | K26: =I26+J26 -> 0 | N26: =L26+M26 -> 0 | O26: =C26+F26+I26+L26 -> 0 | P26: =D26+G26+J26+M26 -> 0 | Q26: =SUM(O26:P26) -> 0
A27: b | B27: felh. célú visszatérintendő tám., kölcsön törlesztése áht-n belül | E27: =C27+D27 -> 0 | H27: =F27+G27 -> 0 | K27: =I27+J27 -> 0 | N27: =L27+M27 -> 0 | O27: =C27+F27+I27+L27 -> 0 | P27: =D27+G27+J27+M27 -> 0 | Q27: =SUM(O27:P27) -> 0
A28: c | B28: egyéb felhalmozási célú támogatások áht-n belülre | E28: =C28+D28 -> 0 | H28: =F28+G28 -> 0 | K28: =I28+J28 -> 0 | N28: =L28+M28 -> 0 | O28: =C28+F28+I28+L28 -> 0 | P28: =D28+G28+J28+M28 -> 0 | Q28: =SUM(O28:P28) -> 0
A29: d | B29: felh. célú visszatérintendő tám., kölcsön nyújtás áht-n kívül | E29: =C29+D29 -> 0 | H29: =F29+G29 -> 0 | K29: =I29+J29 -> 0 | N29: =L29+M29 -> 0 | O29: =C29+F29+I29+L29 -> 0 | P29: =D29+G29+J29+M29 -> 0 | Q29: =SUM(O29:P29) -> 0
A30: e | B30: egyéb felhalmozási célú támogatások áht-n kívül | E30: =C30+D30 -> 0 | H30: =F30+G30 -> 0 | K30: =I30+J30 -> 0 | N30: =L30+M30 -> 0 | O30: =C30+F30+I30+L30 -> 0 | P30: =D30+G30+J30+M30 -> 0 | Q30: =SUM(O30:P30) -> 0
A31: 8 | B31: Egyéb felhalmozási célú kiadások | C31: =SUM(C26:C30) -> 0 | D31: =SUM(D26:D30) -> 0 | E31: =SUM(E26:E30) -> 0 | F31: =SUM(F26:F30) -> 0 | G31: =SUM(G26:G30) -> 0 | H31: =SUM(H26:H30) -> 0 | I31: =SUM(I26:I30) -> 0 | J31: =SUM(J26:J30) -> 0 | ... Q31: =SUM(Q26:Q30) -> 0
A32: 9 | B32: Finanszírozási célú kiadások összesen | E32: =C32+D32 -> 0 | H32: =F32+G32 -> 0 | K32: =I32+J32 -> 0 | N32: =L32+M32 -> 0 | O32: =C32+F32+I32+L32 -> 0 | P32: =D32+G32+J32+M32 -> 0 | Q32: =SUM(O32:P32) -> 0
A33: 10 | E33: =SUM(C33:D33) -> 0 | H33: =SUM(F33:G33) -> 0 | K33: =SUM(I33:J33) -> 0 | N33: =SUM(L33:M33) -> 0 | O33: =C33+F33+I33+L33 -> 0 | P33: =D33+G33+J33+M33 -> 0 | Q33: =SUM(O33:P33) -> 0
A34: A | B34: KIADÁSOK összesen: (1-10-ig) | C34: =C11+C12+C13+C23+C14+C31+C25+C24+C32+C33 -> 1040 | D34: =D11+D12+D13+D23+D14+D31+D25+D24+D32+D33 -> 0 | E34: =E11+E12+E13+E23+E14+E31+E25+E24+E32+E33 -> 1040 | F34: =F11+F12+F13+F23+F14+F31+F25+F24+F32+F33 -> 0 | G34: =G11+G12+G13+G23+G14+G31+G25+G24+G32+G33 -> 0 | H34: =H11+H12+H13+H23+H14+H31+H25+H24+H32+H33 -> 0 | I34: =I11+I12+I13+I23+I14+I31+I25+I24+I32+I33 -> 0 | J34: =J11+J12+J13+J23+J14+J31+J25+J24+J32+J33 -> 68 | ... Q34: =Q11+Q12+Q13+Q23+Q14+Q31+Q25+Q24+Q32+Q33 -> 1108
B35: B E V É T E L E K
A36: a | B36: Önkormányzat működési támogatása | E36: =SUM(C36:D36) -> 0 | H36: =SUM(F36:G36) -> 0 | K36: =SUM(I36:J36) -> 0 | N36: =SUM(L36:M36) -> 0 | O36: =C36+F36+I36+L36 -> 0 | P36: =D36+G36+J36+M36 -> 0 | Q36: =SUM(O36:P36) -> 0
A37: b | B37: Elvonások és befizetések bevételei | E37: =C37+D37 -> 0 | H37: =F37+G37 -> 0 | K37: =I37+J37 -> 0 | N37: =L37+M37 -> 0 | O37: =C37+F37+I37+L37 -> 0 | P37: =D37+G37+J37+M37 -> 0 | Q37: =SUM(O37:P37) -> 0
A38: c | B38: Műk. célú visszat. tám-ok, kölcsönök visszatérülése áht-n belül | E38: =C38+D38 -> 0 | H38: =F38+G38 -> 0 | K38: =I38+J38 -> 0 | N38: =L38+M38 -> 0 | O38: =C38+F38+I38+L38 -> 0 | P38: =D38+G38+J38+M38 -> 0 | Q38: =SUM(O38:P38) -> 0
A39: d | B39: Egyéb műk.c. támogatások bevételei áht-n belül | C39: 1040 | E39: =C39+D39 -> 1040 | H39: =F39+G39 -> 0 | K39: =I39+J39 -> 0 | N39: =L39+M39 -> 0 | O39: =C39+F39+I39+L39 -> 1040 | P39: =D39+G39+J39+M39 -> 0 | Q39: =SUM(O39:P39) -> 1040
A40: 1 | B40: Működési célú támogatások áht-n belülről | C40: =SUM(C36:C39) -> 1040 | D40: =SUM(D36:D39) -> 0 | E40: =SUM(E36:E39) -> 1040 | F40: =SUM(F36:F39) -> 0 | G40: =SUM(G36:G39) -> 0 | H40: =SUM(H36:H39) -> 0 | I40: =SUM(I36:I39) -> 0 | J40: =SUM(J36:J39) -> 0 | ... Q40: =SUM(Q36:Q39) -> 1040
A41: a | B41: jövedelemadók | E41: =C41+D41 -> 0 | H41: =F41+G41 -> 0 | K41: =I41+J41 -> 0 | N41: =L41+M41 -> 0 | O41: =C41+F41+I41+L41 -> 0 | P41: =D41+G41+J41+M41 -> 0 | Q41: =SUM(O41:P41) -> 0
...

Sheet pályázat-kötelező
K1: 4. melléklet a …./2025.(…...)
K2: határozathoz
A6: Budapest XXII. kerületi Roma Önkormányzat
A8: 1.) | B8: Pályázati forrásokból megvalósuló feladatok és azok 2025. évi üteme
I9: ezer Ft-ban
A10: sor-szám | B10: pályázat címe, pályázati cél | C10: pályázat / operatív program azonosító | D10: Projekt teljes költsége | G10: projekt 2025. évi ütemezése
D11: projekt teljes költsége | E11: pályázati forrás | F11: saját forrás | G11: pályázati forrás | H11: saját forrás | I11: tervezett összes kiadás
A12: 1. | B12: 2. | C12: 3. | D12: 4. | E12: 5. | F12: 6. | G12: 7. | H12: 8. | I12: 9.
A13: 1 | D13: =SUM(E13:F13) -> 0 | I13: =SUM(G13:H13) -> 0
A14: 2 | D14: =SUM(E14:F14) -> 0 | I14: =SUM(G14:H14) -> 0
A15: 3 | D15: =SUM(E15:F15) -> 0 | I15: =SUM(G15:H15) -> 0
A16: I. | B16: Europai Uniós forrásból finanszírozott pályázatok összesen: | D16: =SUM(D13:D15) -> 0 | E16: =SUM(E13:E15) -> 0 | F16: =SUM(F13:F15) -> 0 | G16: =SUM(G13:G15) -> 0 | H16: =SUM(H13:H15) -> 0 | I16: =SUM(I13:I15) -> 0
A17: 1 | D17: =SUM(E17:F17) -> 0 | I17: 0
A18: =A17+1 -> 2 | D18: =SUM(E18:F18) -> 0 | I18: 0
A19: II. | B19: Egyéb külföldi forrásból finanszírozott pályázatok összesen: | D19: =SUM(D17:D18) -> 0 | E19: =SUM(E17:E18) -> 0 | F19: =SUM(F17:F18) -> 0 | G19: =SUM(G17:G18) -> 0 | H19: =SUM(H17:H18) -> 0 | I19: =SUM(I17:I18) -> 0
A20: 1 | D20: =SUM(E20:F20) -> 0 | I20: =SUM(G20:H20) -> 0
A21: =A20+1 -> 2 | D21: =SUM(E21:F21) -> 0 | I21: =SUM(G21:H21) -> 0
A22: =A21+1 -> 3 | D22: =SUM(E22:F22) -> 0 | I22: =SUM(G22:H22) -> 0
A23: III. | B23: Hazai forrásból megvalósuló pályázatok | D23: =SUM(D20:D22) -> 0 | E23: =SUM(E20:E22) -> 0 | F23: =SUM(F20:F22) -> 0 | G23: =SUM(G20:G22) -> 0 | H23: =SUM(H20:H22) -> 0 | I23: =SUM(I20:I22) -> 0
A24: Pályázatokból megvalósuló fejlesztések összesen (I+II+III.): | D24: =D23+D19+D16 -> 0 | E24: =E23+E19+E16 -> 0 | F24: =F23+F19+F16 -> 0 | G24: =G23+G19+G16 -> 0 | H24: =H23+H19+H16 -> 0 | I24: =I23+I19+I16 -> 0
A30: 2.) | B30: 2025. évi költségvetési bevételek és kiadások
B31: Kötelező-, önként vállalt és államigazgatási feladatok bontásban
K32: ezer Ft-ban
A33: Sor-szám | B33: C í m r e n d | C33: Bevételek | H33: Kiadások
C34: állami hozzájárulás | D34: feladathoz kapcsolódó egyéb támogatás | E34: Önkormányzat egyéb bevételei | F34: finanszírozási bevételek | G34: Tervezett bevételek összesen | H34: kötelező feladatok kiadásai | I34: Önként vállalt feladatok | J34: államigaz-gatási feladatok | K34: Tervezett kiadások összesen
A36: 1 | B36: 2 | C36: 3 | D36: 4 | E36: 5 | F36: 6 | G36: 7 | H36: 8 | I36: 9 | J36: 10 | K36: 11
A37: 1 | B37: Működési támogatás | C37: 0 | D37: 1040 | E37: =G37-C37-D37-F37 -> 0 | F37: 0 | G37: =K37 -> 1040 | H37: =K37 -> 1040 | I37: =K37-H37-J37 -> 0 | J37: 0 | K37: ='önállóan működő'!E34 -> 1040
A38: =A37+1 -> 2 | B38: Feladatalapú támogatás | C38: 0 | D38: 0 | E38: =G38-C38-D38-F38 -> 0 | F38: 0 | G38: =K38 -> 0 | H38: 0 | I38: =K38-H38-J38 -> 0 | J38: 0 | K38: ='önállóan működő'!H34 -> 0
A39: =A38+1 -> 3 | B39: Saját bevétel/kiadás | C39: 0 | D39: 0 | E39: =G39-C39-D39-F39 -> 0 | F39: 68 | G39: =K39 -> 68 | H39: 0 | I39: =K39-H39-J39 -> 68 | J39: 0 | K39: ='önállóan működő'!K34 -> 68
A40: =A39+1 -> 4 | B40: Önkormányzati támogatás | C40: 0 | D40: 0 | E40: =G40-C40-D40-F40 -> 0 | F40: 0 | G40: =K40 -> 0 | H40: 0 | I40: =K40-H40-J40 -> 0 | J40: 0 | K40: ='önállóan működő'!N34 -> 0
A41: III. | B41: Önkormányzat összesen: | C41: =SUM(C37:C40) -> 0 | D41: =SUM(D37:D40) -> 1040 | E41: =SUM(E37:E40) -> 0 | F41: =SUM(F37:F40) -> 68 | G41: =SUM(G37:G40) -> 1108 | H41: =SUM(H37:H40) -> 1040 | I41: =SUM(I37:I40) -> 68 | J41: =SUM(J37:J40) -> 0 | K41: =SUM(K37:K40) -> 1108
D43: ='bevétfő '!I16+'bevétfő '!I52+'bevétfő '!I56+'bevétfő '!I69 -> 1040 | F43: ='bevétfő '!I81 -> 68 | G43: ='bevétfő '!I82 -> 1108 | K43: ='kiadfő '!H76 -> 1108

Sheet ktgvetési mérleg
M1: 5. melléklet a …/2025.(…...)
M2: határozathoz
J3: az 5/2025. (II.27.) határozat 10. melléklete
A4: Budapest XXII. kerületi Roma Önkormányzat
A5: 2025. évi költségvetési mérlege
M10: ezer Ft-ban
A11: Sor-szám | B11: Bevételek előirányzat csoportonként | C11: tervezett bevételi előirányzatok (áht. 24.§ (4) ) | G11: Sor-szám | H11: Kiadások előirányzat csoportonként | I11: tervezett kiadási előirányzatok (áht. 24.§ (4) )
C12: érvényes előirányzat | D12: módosítás ( ± ) | E12: módosított előirányzat | I12: érvényes előirányzat | J12: hiány/többlet | K12: módosítás ( ± ) | L12: módosított előirányzat | M12: hiány/többlet
A13: I. | B13: Működési célú támogatások áht-n belülről összesen | C13: ='bevétfő '!G16 -> 1040 | D13: ='bevétfő '!H16 -> 0 | E13: ='bevétfő '!I16 -> 1040 | G13: I. | H13: Személyi juttatások | I13: 0 | K13: 0 | L13: 0
A14: 1 | B14: jövedelemadók | C14: 0 | D14: 0 | E14: 0 | G14: II. | H14: Munkaadót terhelő járulékok és szociális hozzájárulási adó | I14: 0 | K14: 0 | L14: 0
A15: 2 | B15: vagyoni típusú adók | C15: 0 | D15: 0 | E15: 0 | G15: III. | H15: Dologi kiadások | I15: ='kiadfő '!F11 -> 1040 | K15: ='kiadfő '!G11 -> 68 | L15: ='kiadfő '!H11 -> 1108
A16: 3 | B16: termékek és szolgáltatások adói | C16: 0 | D16: 0 | E16: 0 | G16: IV. | H16: Ellátottak pénzbeli juttatásai (segélyek) | I16: 0 | K16: 0 | L16: 0
A17: 4 | B17: Egyéb közhatalmi bevételek | C17: 0 | D17: 0 | E17: 0 | G17: 1 | H17: Elvonások és befizetések | I17: 0 | K17: 0 | L17: 0
A18: II. | B18: Közhatalmi bevételek (1+2+3+4) | C18: =SUM(C14:C17) -> 0 | D18: =SUM(D14:D17) -> 0 | E18: =SUM(E14:E17) -> 0 | G18: 2 | H18: Működési célú visszatérítendő támogatások, kölcsönök nyújtása áht-n belülre | I18: 0 | K18: 0 | L18: 0
A19: a | B19: Készletértékesítés ellenértéke | C19: 0 | D19: 0 | E19: 0 | G19: 3 | H19: Működési célú visszatérítendő támogatások, kölcsönök törlesztése áht-n belülre | I19: 0 | K19: 0 | L19: 0
A20: b | B20: Szolgáltatások, közvetített szolgáltatások összesen: | C20: 0 | D20: 0 | E20: 0 | G20: 4 | H20: Egyéb működési célú támogatások államháztartáson belülre | I20: ='kiadfő '!F16 -> 0 | K20: ='kiadfő '!G16 -> 0 | L20: ='kiadfő '!H16 -> 0
A21: c | B21: Tulajdonosi bevételek | C21: 0 | D21: 0 | E21: 0 | G21: 5 | H21: Működési célú visszatérítendő támogatások, kölcsönök nyújtása áht-n kívülre | I21: 0 | K21: 0 | L21: 0
A22: d | B22: Ellátási díjak | C22: 0 | D22: 0 | E22: 0 | G22: 6 | H22: Egyéb működési célú támogatások államháztartáson kívülre | I22: ='kiadfő '!F26 -> 0 | K22: ='kiadfő '!G26 -> 0 | L22: ='kiadfő '!H26 -> 0
A23: e | B23: Áfa bevételek, visszatérülések | C23: 0 | D23: 0 | E23: 0 | G23: 7 | H23: Működési célútartalék | I23: 0 | K23: 0 | L23: 0
A24: f | B24: Kamatbevételek | C24: ='bevétfő '!G46 -> 0 | D24: ='bevétfő '!H46 -> 0 | E24: ='bevétfő '!I46 -> 0 | H24: ebből: általános tartalék
A25: g | B25: Egyéb működési bevételek | C25: 0 | D25: 0 | E25: 0 | H25: ebből: működési céltartalék
A26: III. | B26: Működési bevételek (a+…+g) | C26: =SUM(C19:C25) -> 0 | D26: =SUM(D19:D25) -> 0 | E26: =SUM(E19:E25) -> 0 | G26: V. | H26: Egyéb működési célú kiadások (1+2+3+..+7) | I26: =SUM(I17:I23) -> 0 | K26: =SUM(K17:K23) -> 0 | L26: =SUM(L17:L23) -> 0
A27: 1 | B27: Működési célú támogatások, kölcsönök visszatérülése áht-n kívülről | C27: 0 | D27: 0 | E27: 0
A28: 2 | B28: Egyéb működési célú átvett pénzeszközök | C28: 0 | D28: 0 | E28: 0
A29: IV. | B29: Működési célú átvett pénzeszközök összesen (1+2): | C29: =SUM(C27:C28) -> 0 | D29: =SUM(D27:D28) -> 0 | E29: =SUM(E27:E28) -> 0
A30: A. | B30: MŰKÖDÉSI BEVÉTELEK ÖSSZESEN: (I+II+III+IV) | C30: =C13+C18+C26+C29 -> 1040 | D30: =D13+D18+D26+D29 -> 0 | E30: =E13+E18+E26+E29 -> 1040 | G30: A. | H30: MŰKÖDÉSI KIADÁSOK ÖSSZESEN: (I+II+III+IV+V) | I30: =I13+I14+I15+I16+I26 -> 1040 | J30: =C30-I30 -> 0 | K30: =K13+K14+K15+K16+K26 -> 68 | L30: =L13+L14+L15+L16+L26 -> 1108 | M30: =E30-L30 -> -68
A31: V. | B31: Felhalmozási célú támogatások államháztartáson belülről | C31: 0 | D31: 0 | E31: 0 | G31: VI. | H31: Beruházások összesen: | I31: ='kiadfő '!F40 -> 0 | K31: ='kiadfő '!G40 -> 0 | L31: ='kiadfő '!H40 -> 0
A32: 1 | B32: Immateriális javak értékesítése | C32: 0 | D32: 0 | E32: 0 | G32: VII. | H32: Felújítások összesen: | I32: 0 | K32: 0 | L32: 0
A33: 2 | B33: Ingatlanok értékesítése | C33: 0 | D33: 0 | E33: 0 | G33: 1 | H33: Felhalmozási célú visszatérítendő támogatások, kölcsönök nyújtása áht-n belülre | I33: 0 | K33: 0 | L33: 0
A34: 3 | B34: Egyéb tárgyi eszköz értékesítése | C34: 0 | D34: 0 | E34: 0 | G34: 2 | H34: Felhalmozási célú visszatérítendő támogtások, kölcsönök törlesztése áht-n belülre | I34: 0 | K34: 0 | L34: 0
A35: 4 | B35: Részesedések megszűnéséhez kapcsolódó bevételek | C35: 0 | D35: 0 | E35: 0 | G35: 3 | H35: Egyéb felhalmozási célú támogatások államháztartáson belülre | I35: 0 | K35: 0 | L35: 0
A36: VI. | B36: Felhalmozási bevételek összesen (1+…+4): | C36: =SUM(C32:C35) -> 0 | D36: =SUM(D32:D35) -> 0 | E36: =SUM(E32:E35) -> 0 | G36: 4 | H36: Felhalmozási célú visszatérítendő támogatások, kölcsönök nyújtása áht-n kívülre | I36: 0 | K36: 0 | L36: 0
A37: 1 | B37: Felhalmozási célú támogatás, kölcsön visszatérülése áht-n kívülről | C37: 0 | D37: 0 | E37: 0 | G37: 5 | H37: Egyéb felhalmozási célú támogatások államháztartáson kívülre | I37: 0 | K37: 0 | L37: 0
A38: 2 | B38: Felhalmozási célú átvett pénzeszközök összesen: | C38: 0 | D38: 0 | E38: 0 | G38: VIII. | H38: Egyéb felhalmozási célú kiadások (1+2+…+5) | I38: =SUM(I33:I37) -> 0 | K38: =SUM(K33:K37) -> 0 | L38: =SUM(L33:L37) -> 0
A39: VII. | B39: Felhalmozási célú átvett pénzeszközök összesen (1+2) | C39: =SUM(C37:C38) -> 0 | D39: =SUM(D37:D38) -> 0 | E39: =SUM(E37:E38) -> 0 | H39: Felhalmozási céltartalékok összesen:
A40: B | B40: FELHALMOZÁSI BEVÉTELEK ÖSSZESEN: (V+VI+VII) | C40: =C31+C36+C39 -> 0 | D40: =D31+D36+D39 -> 0 | E40: =E31+E36+E39 -> 0 | G40: B | H40: FELHALMOZÁSI KIADÁSOK ÖSSZESEN: (VI+VII+VIII) | I40: =I31+I32+I38+I39 -> 0 | J40: =C40-I40 -> 0 | K40: =K31+K32+K38+K39 -> 0 | L40: =L31+L32+L38+L39 -> 0 | M40: =E40-L40 -> 0
A41: C | B41: TÁRGYÉVI KÖLTSÉGVETÉSI BEVÉTELEK ÖSSZESEN: | C41: =C30+C40 -> 1040 | D41: =D30+D40 -> 0 | E41: =E30+E40 -> 1040 | G41: C | H41: TÁRGYÉVI KÖLTSÉGVETÉSI KIADÁSOK ÖSSZESEN: | I41: =I30+I40 -> 1040 | J41: =C41-I41 -> 0 | K41: =K30+K40 -> 68 | L41: =L30+L40 -> 1108 | M41: =M30+M40 -> -68
A42: D | B42: Finanszírozási célú bevételek | C42: ='bevétfő '!G81 -> 0 | D42: ='bevétfő '!H81 -> 68 | E42: ='bevétfő '!I81 -> 68 | G42: D | H42: Finanszírozási célú kiadások összesen | I42: 0 | J42: =C42-I42 -> 0 | K42: 0 | L42: 0 | M42: =E42-L42 -> 68
A43: E | B43: TÁRGYÉVI BEVÉTELEK ÖSSZESEN: | C43: =SUM(C41:C42) -> 1040 | D43: =SUM(D41:D42) -> 68 | E43: =SUM(E41:E42) -> 1108 | G43: E | H43: TÁRGYÉVI KIADÁSOK ÖSSZESEN: | I43: =SUM(I41:I42) -> 1040 | J43: =C43-I43 -> 0 | K43: =SUM(K41:K42) -> 68 | L43: =SUM(L41:L42) -> 1108 | M43: =SUM(M41:M42) -> 0
C45: ='bevétfő '!G82 -> 1040 | D45: ='bevétfő '!H82 -> 68 | E45: ='bevétfő '!I82 -> 1108 | I45: =C43-I43 -> 0 | K45: =D43-K43 -> 0 | L45: =E43-L43 -> 0 | M45: =E43-L43 -> 0
...
